{"text_format":"3","workbook":"xlsx","n_sheets":1,"sheets":["Sheet1"],"not_rendered":{"external_links":1,"defined_names":1},"read":"whole","date_system":"1900"}

{"sheet":"Sheet1","index":0,"n_rows":132,"n_cols":9,"rows_kept":132,"merged":[[1,0,1,8]]}
["附件"]
["广东省事业单位2023年集中招聘高校毕业生开平市教育系统岗位\n面试资格审核考生名单"]
["序号","招聘单位","岗位名称","岗位代码","招考比例","招聘人数","准考证号","笔试排名","资格审核时间"]
[1,"开平市三埠街道办事处中心学校","教务处专业技术岗位十一级至十三级","2311266130538","1：5",{"$f":"VLOOKUP(D4,[1]Sheet1!$C$2:$H$21,6,0)","v":2},"231130907527",1,"6月15日上午"]
[2,"开平市三埠街道办事处中心学校","教务处专业技术岗位十一级至十三级","2311266130538","1：5",{"$f":"VLOOKUP(D5,[1]Sheet1!$C$2:$H$21,6,0)","v":2},"231130500206",2,"6月15日上午"]
[3,"开平市三埠街道办事处中心学校","教务处专业技术岗位十一级至十三级","2311266130538","1：5",{"$f":"VLOOKUP(D6,[1]Sheet1!$C$2:$H$21,6,0)","v":2},"231130701813",3,"6月15日上午"]
[4,"开平市三埠街道办事处中心学校","教务处专业技术岗位十一级至十三级","2311266130538","1：5",{"$f":"VLOOKUP(D7,[1]Sheet1!$C$2:$H$21,6,0)","v":2},"231130101711",4,"6月15日上午"]
[5,"开平市三埠街道办事处中心学校","教务处专业技术岗位十一级至十三级","2311266130538","1：5",{"$f":"VLOOKUP(D8,[1]Sheet1!$C$2:$H$21,6,0)","v":2},"231130904603",5,"6月15日上午"]
[6,"开平市三埠街道办事处中心学校","教务处专业技术岗位十一级至十三级","2311266130538","1：5",{"$f":"VLOOKUP(D9,[1]Sheet1!$C$2:$H$21,6,0)","v":2},"231131000911",6,"6月15日上午"]
[7,"开平市三埠街道办事处中心学校","教务处专业技术岗位十一级至十三级","2311266130538","1：5",{"$f":"VLOOKUP(D10,[1]Sheet1!$C$2:$H$21,6,0)","v":2},"231130207408",7,"6月15日上午"]
[8,"开平市三埠街道办事处中心学校","教务处专业技术岗位十一级至十三级","2311266130538","1：5",{"$f":"VLOOKUP(D11,[1]Sheet1!$C$2:$H$21,6,0)","v":2},"231130104916",8,"6月15日上午"]
[9,"开平市三埠街道办事处中心学校","教务处专业技术岗位十一级至十三级","2311266130538","1：5",{"$f":"VLOOKUP(D12,[1]Sheet1!$C$2:$H$21,6,0)","v":2},"231130503510",9,"6月15日上午"]
[10,"开平市三埠街道办事处中心学校","教务处专业技术岗位十一级至十三级","2311266130538","1：5",{"$f":"VLOOKUP(D13,[1]Sheet1!$C$2:$H$21,6,0)","v":2},"231130906126",10,"6月15日上午"]
[11,"开平市水口镇中心学校","教务处专业技术岗位十一级至十三级","2311266130539","1：5",{"$f":"VLOOKUP(D14,[1]Sheet1!$C$2:$H$21,6,0)","v":4},"231130114228",1,"6月15日上午"]
[12,"开平市水口镇中心学校","教务处专业技术岗位十一级至十三级","2311266130539","1：5",{"$f":"VLOOKUP(D15,[1]Sheet1!$C$2:$H$21,6,0)","v":4},"231130901017",2,"6月15日上午"]
[13,"开平市水口镇中心学校","教务处专业技术岗位十一级至十三级","2311266130539","1：5",{"$f":"VLOOKUP(D16,[1]Sheet1!$C$2:$H$21,6,0)","v":4},"231130200909",3,"6月15日上午"]
[14,"开平市水口镇中心学校","教务处专业技术岗位十一级至十三级","2311266130539","1：5",{"$f":"VLOOKUP(D17,[1]Sheet1!$C$2:$H$21,6,0)","v":4},"231130106329",4,"6月15日上午"]
[15,"开平市水口镇中心学校","教务处专业技术岗位十一级至十三级","2311266130539","1：5",{"$f":"VLOOKUP(D18,[1]Sheet1!$C$2:$H$21,6,0)","v":4},"231130404717",5,"6月15日上午"]
[16,"开平市水口镇中心学校","教务处专业技术岗位十一级至十三级","2311266130539","1：5",{"$f":"VLOOKUP(D19,[1]Sheet1!$C$2:$H$21,6,0)","v":4},"231130202501",6,"6月15日上午"]
[17,"开平市水口镇中心学校","教务处专业技术岗位十一级至十三级","2311266130539","1：5",{"$f":"VLOOKUP(D20,[1]Sheet1!$C$2:$H$21,6,0)","v":4},"231130401114",7,"6月15日上午"]
[18,"开平市水口镇中心学校","教务处专业技术岗位十一级至十三级","2311266130539","1：5",{"$f":"VLOOKUP(D21,[1]Sheet1!$C$2:$H$21,6,0)","v":4},"231130113411",8,"6月15日上午"]
[19,"开平市水口镇中心学校","教务处专业技术岗位十一级至十三级","2311266130539","1：5",{"$f":"VLOOKUP(D22,[1]Sheet1!$C$2:$H$21,6,0)","v":4},"231130101721",9,"6月15日上午"]
[20,"开平市水口镇中心学校","教务处专业技术岗位十一级至十三级","2311266130539","1：5",{"$f":"VLOOKUP(D23,[1]Sheet1!$C$2:$H$21,6,0)","v":4},"231130600727",10,"6月15日上午"]
[21,"开平市水口镇中心学校","教务处专业技术岗位十一级至十三级","2311266130539","1：5",{"$f":"VLOOKUP(D24,[1]Sheet1!$C$2:$H$21,6,0)","v":4},"231130306515",11,"6月15日上午"]
[22,"开平市水口镇中心学校","教务处专业技术岗位十一级至十三级","2311266130539","1：5",{"$f":"VLOOKUP(D25,[1]Sheet1!$C$2:$H$21,6,0)","v":4},"231130502816",12,"6月15日上午"]
[23,"开平市水口镇中心学校","教务处专业技术岗位十一级至十三级","2311266130539","1：5",{"$f":"VLOOKUP(D26,[1]Sheet1!$C$2:$H$21,6,0)","v":4},"231130907606",13,"6月15日上午"]
[24,"开平市水口镇中心学校","教务处专业技术岗位十一级至十三级","2311266130539","1：5",{"$f":"VLOOKUP(D27,[1]Sheet1!$C$2:$H$21,6,0)","v":4},"231130305217",13,"6月15日上午"]
[25,"开平市水口镇中心学校","教务处专业技术岗位十一级至十三级","2311266130539","1：5",{"$f":"VLOOKUP(D28,[1]Sheet1!$C$2:$H$21,6,0)","v":4},"231130111613",15,"6月15日上午"]
[26,"开平市水口镇中心学校","教务处专业技术岗位十一级至十三级","2311266130539","1：5",{"$f":"VLOOKUP(D29,[1]Sheet1!$C$2:$H$21,6,0)","v":4},"231130106611",16,"6月15日上午"]
[27,"开平市水口镇中心学校","教务处专业技术岗位十一级至十三级","2311266130539","1：5",{"$f":"VLOOKUP(D30,[1]Sheet1!$C$2:$H$21,6,0)","v":4},"231131000623",17,"6月15日上午"]
[28,"开平市水口镇中心学校","教务处专业技术岗位十一级至十三级","2311266130539","1：5",{"$f":"VLOOKUP(D31,[1]Sheet1!$C$2:$H$21,6,0)","v":4},"231130103005",18,"6月15日上午"]
[29,"开平市水口镇中心学校","教务处专业技术岗位十一级至十三级","2311266130539","1：5",{"$f":"VLOOKUP(D32,[1]Sheet1!$C$2:$H$21,6,0)","v":4},"231130103627",19,"6月15日上午"]
[30,"开平市水口镇中心学校","教务处专业技术岗位十一级至十三级","2311266130539","1：5",{"$f":"VLOOKUP(D33,[1]Sheet1!$C$2:$H$21,6,0)","v":4},"231131002326",20,"6月15日上午"]
[31,"开平市月山镇中心学校","教务处专业技术岗位十一级至十三级","2311266130540","1：5",{"$f":"VLOOKUP(D34,[1]Sheet1!$C$2:$H$21,6,0)","v":2},"231130701713",1,"6月15日上午"]
[32,"开平市月山镇中心学校","教务处专业技术岗位十一级至十三级","2311266130540","1：5",{"$f":"VLOOKUP(D35,[1]Sheet1!$C$2:$H$21,6,0)","v":2},"231130900628",2,"6月15日上午"]
[33,"开平市月山镇中心学校","教务处专业技术岗位十一级至十三级","2311266130540","1：5",{"$f":"VLOOKUP(D36,[1]Sheet1!$C$2:$H$21,6,0)","v":2},"231130111908",3,"6月15日上午"]
[34,"开平市月山镇中心学校","教务处专业技术岗位十一级至十三级","2311266130540","1：5",{"$f":"VLOOKUP(D37,[1]Sheet1!$C$2:$H$21,6,0)","v":2},"231130901517",4,"6月15日上午"]
[35,"开平市月山镇中心学校","教务处专业技术岗位十一级至十三级","2311266130540","1：5",{"$f":"VLOOKUP(D38,[1]Sheet1!$C$2:$H$21,6,0)","v":2},"231130907120",5,"6月15日上午"]
[36,"开平市月山镇中心学校","教务处专业技术岗位十一级至十三级","2311266130540","1：5",{"$f":"VLOOKUP(D39,[1]Sheet1!$C$2:$H$21,6,0)","v":2},"231130106622",5,"6月15日上午"]
[37,"开平市月山镇中心学校","教务处专业技术岗位十一级至十三级","2311266130540","1：5",{"$f":"VLOOKUP(D40,[1]Sheet1!$C$2:$H$21,6,0)","v":2},"231130305724",7,"6月15日上午"]
[38,"开平市月山镇中心学校","教务处专业技术岗位十一级至十三级","2311266130540","1：5",{"$f":"VLOOKUP(D41,[1]Sheet1!$C$2:$H$21,6,0)","v":2},"231131003027",8,"6月15日上午"]
[39,"开平市月山镇中心学校","教务处专业技术岗位十一级至十三级","2311266130540","1：5",{"$f":"VLOOKUP(D42,[1]Sheet1!$C$2:$H$21,6,0)","v":2},"231130604422",9,"6月15日上午"]
[40,"开平市月山镇中心学校","教务处专业技术岗位十一级至十三级","2311266130540","1：5",{"$f":"VLOOKUP(D43,[1]Sheet1!$C$2:$H$21,6,0)","v":2},"231130907702",10,"6月15日上午"]
[41,"开平市翠山湖实验学校","教务处专业技术岗位十一级至十三级","2311266130541","1：5",{"$f":"VLOOKUP(D44,[1]Sheet1!$C$2:$H$21,6,0)","v":1},"231130110206",1,"6月15日上午"]
[42,"开平市翠山湖实验学校","教务处专业技术岗位十一级至十三级","2311266130541","1：5",{"$f":"VLOOKUP(D45,[1]Sheet1!$C$2:$H$21,6,0)","v":1},"231130305516",2,"6月15日上午"]
[43,"开平市翠山湖实验学校","教务处专业技术岗位十一级至十三级","2311266130541","1：5",{"$f":"VLOOKUP(D46,[1]Sheet1!$C$2:$H$21,6,0)","v":1},"231130104929",3,"6月15日上午"]
[44,"开平市翠山湖实验学校","教务处专业技术岗位十一级至十三级","2311266130541","1：5",{"$f":"VLOOKUP(D47,[1]Sheet1!$C$2:$H$21,6,0)","v":1},"231130206621",4,"6月15日上午"]
[45,"开平市翠山湖实验学校","教务处专业技术岗位十一级至十三级","2311266130541","1：5",{"$f":"VLOOKUP(D48,[1]Sheet1!$C$2:$H$21,6,0)","v":1},"231130701008",5,"6月15日上午"]
[46,"开平市水口镇中心学校","教务处专业技术岗位十一级至十三级","2311266130542","1：5",{"$f":"VLOOKUP(D49,[1]Sheet1!$C$2:$H$21,6,0)","v":2},"231130902514",1,"6月15日上午"]
[47,"开平市水口镇中心学校","教务处专业技术岗位十一级至十三级","2311266130542","1：5",{"$f":"VLOOKUP(D50,[1]Sheet1!$C$2:$H$21,6,0)","v":2},"231130104627",2,"6月15日上午"]
[48,"开平市水口镇中心学校","教务处专业技术岗位十一级至十三级","2311266130542","1：5",{"$f":"VLOOKUP(D51,[1]Sheet1!$C$2:$H$21,6,0)","v":2},"231130306711",3,"6月15日上午"]
[49,"开平市水口镇中心学校","教务处专业技术岗位十一级至十三级","2311266130542","1：5",{"$f":"VLOOKUP(D52,[1]Sheet1!$C$2:$H$21,6,0)","v":2},"231130105315",4,"6月15日上午"]
[50,"开平市水口镇中心学校","教务处专业技术岗位十一级至十三级","2311266130542","1：5",{"$f":"VLOOKUP(D53,[1]Sheet1!$C$2:$H$21,6,0)","v":2},"231130200701",5,"6月15日上午"]
[51,"开平市水口镇中心学校","教务处专业技术岗位十一级至十三级","2311266130542","1：5",{"$f":"VLOOKUP(D54,[1]Sheet1!$C$2:$H$21,6,0)","v":2},"231130200205",6,"6月15日上午"]
[52,"开平市长沙街道办事处中心学校","教务处专业技术岗位十一级至十三级","2311266130543","1：5",{"$f":"VLOOKUP(D55,[1]Sheet1!$C$2:$H$21,6,0)","v":1},"231130102403",1,"6月15日上午"]
[53,"开平市月山镇中心学校","教务处专业技术岗位十一级至十三级","2311266130544","1：5",{"$f":"VLOOKUP(D56,[1]Sheet1!$C$2:$H$21,6,0)","v":1},"231130205318",1,"6月15日上午"]
[54,"开平市水口镇中心学校","教务处专业技术岗位十一级至十三级","2311266130545","1：5",{"$f":"VLOOKUP(D57,[1]Sheet1!$C$2:$H$21,6,0)","v":2},"231130102612",1,"6月15日上午"]
[55,"开平市水口镇中心学校","教务处专业技术岗位十一级至十三级","2311266130545","1：5",{"$f":"VLOOKUP(D58,[1]Sheet1!$C$2:$H$21,6,0)","v":2},"231130405017",2,"6月15日上午"]
[56,"开平市水口镇中心学校","教务处专业技术岗位十一级至十三级","2311266130545","1：5",{"$f":"VLOOKUP(D59,[1]Sheet1!$C$2:$H$21,6,0)","v":2},"231130503117",3,"6月15日上午"]
[57,"开平市水口镇中心学校","教务处专业技术岗位十一级至十三级","2311266130545","1：5",{"$f":"VLOOKUP(D60,[1]Sheet1!$C$2:$H$21,6,0)","v":2},"231130902016",4,"6月15日上午"]
[58,"开平市水口镇中心学校","教务处专业技术岗位十一级至十三级","2311266130545","1：5",{"$f":"VLOOKUP(D61,[1]Sheet1!$C$2:$H$21,6,0)","v":2},"231130502613",5,"6月15日上午"]
[59,"开平市水口镇中心学校","教务处专业技术岗位十一级至十三级","2311266130545","1：5",{"$f":"VLOOKUP(D62,[1]Sheet1!$C$2:$H$21,6,0)","v":2},"231130202123",6,"6月15日上午"]
[60,"开平市水口镇中心学校","教务处专业技术岗位十一级至十三级","2311266130545","1：5",{"$f":"VLOOKUP(D63,[1]Sheet1!$C$2:$H$21,6,0)","v":2},"231130902327",7,"6月15日上午"]
[61,"开平市水口镇中心学校","教务处专业技术岗位十一级至十三级","2311266130545","1：5",{"$f":"VLOOKUP(D64,[1]Sheet1!$C$2:$H$21,6,0)","v":2},"231130305011",8,"6月15日上午"]
[62,"开平市水口镇中心学校","教务处专业技术岗位十一级至十三级","2311266130545","1：5",{"$f":"VLOOKUP(D65,[1]Sheet1!$C$2:$H$21,6,0)","v":2},"231130701525",9,"6月15日上午"]
[63,"开平市水口镇中心学校","教务处专业技术岗位十一级至十三级","2311266130545","1：5",{"$f":"VLOOKUP(D66,[1]Sheet1!$C$2:$H$21,6,0)","v":2},"231131001215",10,"6月15日上午"]
[64,"开平市三埠街道办事处中心学校","教务处专业技术岗位十一级至十三级","2311266130546","1：5",{"$f":"VLOOKUP(D67,[1]Sheet1!$C$2:$H$21,6,0)","v":1},"231130406129",1,"6月15日上午"]
[65,"开平市三埠街道办事处中心学校","教务处专业技术岗位十一级至十三级","2311266130546","1：5",{"$f":"VLOOKUP(D68,[1]Sheet1!$C$2:$H$21,6,0)","v":1},"231130300727",2,"6月15日上午"]
[66,"开平市三埠街道办事处中心学校","教务处专业技术岗位十一级至十三级","2311266130546","1：5",{"$f":"VLOOKUP(D69,[1]Sheet1!$C$2:$H$21,6,0)","v":1},"231130113521",3,"6月15日上午"]
[67,"开平市三埠街道办事处中心学校","教务处专业技术岗位十一级至十三级","2311266130546","1：5",{"$f":"VLOOKUP(D70,[1]Sheet1!$C$2:$H$21,6,0)","v":1},"231131000428",4,"6月15日上午"]
[68,"开平市三埠街道办事处中心学校","教务处专业技术岗位十一级至十三级","2311266130546","1：5",{"$f":"VLOOKUP(D71,[1]Sheet1!$C$2:$H$21,6,0)","v":1},"231130111217",4,"6月15日上午"]
[69,"开平市长沙街道办事处中心学校","教务处专业技术岗位十一级至十三级","2311266130547","1：5",{"$f":"VLOOKUP(D72,[1]Sheet1!$C$2:$H$21,6,0)","v":1},"231131002528",1,"6月15日下午"]
[70,"开平市长沙街道办事处中心学校","教务处专业技术岗位十一级至十三级","2311266130547","1：5",{"$f":"VLOOKUP(D73,[1]Sheet1!$C$2:$H$21,6,0)","v":1},"231130106009",2,"6月15日下午"]
[71,"开平市长沙街道办事处中心学校","教务处专业技术岗位十一级至十三级","2311266130547","1：5",{"$f":"VLOOKUP(D74,[1]Sheet1!$C$2:$H$21,6,0)","v":1},"231130202707",3,"6月15日下午"]
[72,"开平市长沙街道办事处中心学校","教务处专业技术岗位十一级至十三级","2311266130547","1：5",{"$f":"VLOOKUP(D75,[1]Sheet1!$C$2:$H$21,6,0)","v":1},"231130501124",4,"6月15日下午"]
[73,"开平市长沙街道办事处中心学校","教务处专业技术岗位十一级至十三级","2311266130547","1：5",{"$f":"VLOOKUP(D76,[1]Sheet1!$C$2:$H$21,6,0)","v":1},"231130113629",5,"6月15日下午"]
[74,"开平市第七中学","教务处专业技术岗位十一级至十三级","2311266130548","1：5",{"$f":"VLOOKUP(D77,[1]Sheet1!$C$2:$H$21,6,0)","v":1},"231130303302",1,"6月15日下午"]
[75,"开平市第七中学","教务处专业技术岗位十一级至十三级","2311266130548","1：5",{"$f":"VLOOKUP(D78,[1]Sheet1!$C$2:$H$21,6,0)","v":1},"231130700405",2,"6月15日下午"]
[76,"开平市第七中学","教务处专业技术岗位十一级至十三级","2311266130548","1：5",{"$f":"VLOOKUP(D79,[1]Sheet1!$C$2:$H$21,6,0)","v":1},"231130907125",3,"6月15日下午"]
[77,"开平市第七中学","教务处专业技术岗位十一级至十三级","2311266130548","1：5",{"$f":"VLOOKUP(D80,[1]Sheet1!$C$2:$H$21,6,0)","v":1},"231130201517",4,"6月15日下午"]
[78,"开平市翠山湖实验学校","教务处专业技术岗位十一级至十三级","2311266130549","1：5",{"$f":"VLOOKUP(D81,[1]Sheet1!$C$2:$H$21,6,0)","v":1},"231130407410",1,"6月15日下午"]
[79,"开平市翠山湖实验学校","教务处专业技术岗位十一级至十三级","2311266130549","1：5",{"$f":"VLOOKUP(D82,[1]Sheet1!$C$2:$H$21,6,0)","v":1},"231130901625",2,"6月15日下午"]
[80,"开平市翠山湖实验学校","教务处专业技术岗位十一级至十三级","2311266130549","1：5",{"$f":"VLOOKUP(D83,[1]Sheet1!$C$2:$H$21,6,0)","v":1},"231130501321",3,"6月15日下午"]
[81,"开平市翠山湖实验学校","教务处专业技术岗位十一级至十三级","2311266130549","1：5",{"$f":"VLOOKUP(D84,[1]Sheet1!$C$2:$H$21,6,0)","v":1},"231131002807",4,"6月15日下午"]
[82,"开平市翠山湖实验学校","教务处专业技术岗位十一级至十三级","2311266130549","1：5",{"$f":"VLOOKUP(D85,[1]Sheet1!$C$2:$H$21,6,0)","v":1},"231131002601",5,"6月15日下午"]
[83,"开平市三埠街道办事处中心学校","教务处专业技术岗位十一级至十三级","2311266130550","1：5",{"$f":"VLOOKUP(D86,[1]Sheet1!$C$2:$H$21,6,0)","v":2},"231130108825",1,"6月15日下午"]
[84,"开平市三埠街道办事处中心学校","教务处专业技术岗位十一级至十三级","2311266130550","1：5",{"$f":"VLOOKUP(D87,[1]Sheet1!$C$2:$H$21,6,0)","v":2},"231130403925",2,"6月15日下午"]
[85,"开平市长沙街道办事处中心学校","教务处专业技术岗位十一级至十三级","2311266130551","1：5",{"$f":"VLOOKUP(D88,[1]Sheet1!$C$2:$H$21,6,0)","v":3},"231130107906",1,"6月15日下午"]
[86,"开平市长沙街道办事处中心学校","教务处专业技术岗位十一级至十三级","2311266130551","1：5",{"$f":"VLOOKUP(D89,[1]Sheet1!$C$2:$H$21,6,0)","v":3},"231131002510",2,"6月15日下午"]
[87,"开平市长沙街道办事处中心学校","教务处专业技术岗位十一级至十三级","2311266130551","1：5",{"$f":"VLOOKUP(D90,[1]Sheet1!$C$2:$H$21,6,0)","v":3},"231130600120",3,"6月15日下午"]
[88,"开平市长沙街道办事处中心学校","教务处专业技术岗位十一级至十三级","2311266130551","1：5",{"$f":"VLOOKUP(D91,[1]Sheet1!$C$2:$H$21,6,0)","v":3},"231130205904",3,"6月15日下午"]
[89,"开平市长沙街道办事处中心学校","教务处专业技术岗位十一级至十三级","2311266130551","1：5",{"$f":"VLOOKUP(D92,[1]Sheet1!$C$2:$H$21,6,0)","v":3},"231130303401",5,"6月15日下午"]
[90,"开平市长沙街道办事处中心学校","教务处专业技术岗位十一级至十三级","2311266130551","1：5",{"$f":"VLOOKUP(D93,[1]Sheet1!$C$2:$H$21,6,0)","v":3},"231130105219",6,"6月15日下午"]
[91,"开平市长沙街道办事处中心学校","教务处专业技术岗位十一级至十三级","2311266130551","1：5",{"$f":"VLOOKUP(D94,[1]Sheet1!$C$2:$H$21,6,0)","v":3},"231130907707",6,"6月15日下午"]
[92,"开平市长沙街道办事处中心学校","教务处专业技术岗位十一级至十三级","2311266130551","1：5",{"$f":"VLOOKUP(D95,[1]Sheet1!$C$2:$H$21,6,0)","v":3},"231130801002",8,"6月15日下午"]
[93,"开平市长沙街道办事处中心学校","教务处专业技术岗位十一级至十三级","2311266130551","1：5",{"$f":"VLOOKUP(D96,[1]Sheet1!$C$2:$H$21,6,0)","v":3},"231130900816",9,"6月15日下午"]
[94,"开平市长沙街道办事处中心学校","教务处专业技术岗位十一级至十三级","2311266130551","1：5",{"$f":"VLOOKUP(D97,[1]Sheet1!$C$2:$H$21,6,0)","v":3},"231130902104",10,"6月15日下午"]
[95,"开平市长沙街道办事处中心学校","教务处专业技术岗位十一级至十三级","2311266130551","1：5",{"$f":"VLOOKUP(D98,[1]Sheet1!$C$2:$H$21,6,0)","v":3},"231130801203",11,"6月15日下午"]
[96,"开平市长沙街道办事处中心学校","教务处专业技术岗位十一级至十三级","2311266130551","1：5",{"$f":"VLOOKUP(D99,[1]Sheet1!$C$2:$H$21,6,0)","v":3},"231130110418",12,"6月15日下午"]
[97,"开平市长沙街道办事处中心学校","教务处专业技术岗位十一级至十三级","2311266130551","1：5",{"$f":"VLOOKUP(D100,[1]Sheet1!$C$2:$H$21,6,0)","v":3},"231130503112",13,"6月15日下午"]
[98,"开平市长沙街道办事处中心学校","教务处专业技术岗位十一级至十三级","2311266130551","1：5",{"$f":"VLOOKUP(D101,[1]Sheet1!$C$2:$H$21,6,0)","v":3},"231130201326",14,"6月15日下午"]
[99,"开平市长沙街道办事处中心学校","教务处专业技术岗位十一级至十三级","2311266130551","1：5",{"$f":"VLOOKUP(D102,[1]Sheet1!$C$2:$H$21,6,0)","v":3},"231130305503",15,"6月15日下午"]
[100,"开平市第七中学","教务处专业技术岗位十一级至十三级","2311266130552","1：5",{"$f":"VLOOKUP(D103,[1]Sheet1!$C$2:$H$21,6,0)","v":1},"231130502806",1,"6月15日下午"]
[101,"开平市第七中学","教务处专业技术岗位十一级至十三级","2311266130552","1：5",{"$f":"VLOOKUP(D104,[1]Sheet1!$C$2:$H$21,6,0)","v":1},"231130906027",2,"6月15日下午"]
[102,"开平市第七中学","教务处专业技术岗位十一级至十三级","2311266130552","1：5",{"$f":"VLOOKUP(D105,[1]Sheet1!$C$2:$H$21,6,0)","v":1},"231130406523",3,"6月15日下午"]
[103,"开平市第七中学","教务处专业技术岗位十一级至十三级","2311266130552","1：5",{"$f":"VLOOKUP(D106,[1]Sheet1!$C$2:$H$21,6,0)","v":1},"231130108512",4,"6月15日下午"]
[104,"开平市第七中学","教务处专业技术岗位十一级至十三级","2311266130552","1：5",{"$f":"VLOOKUP(D107,[1]Sheet1!$C$2:$H$21,6,0)","v":1},"231130900511",4,"6月15日下午"]
[105,"开平市第七中学","教务处专业技术岗位十一级至十三级","2311266130553","1：5",{"$f":"VLOOKUP(D108,[1]Sheet1!$C$2:$H$21,6,0)","v":1},"231130903020",1,"6月15日下午"]
[106,"开平市第七中学","教务处专业技术岗位十一级至十三级","2311266130553","1：5",{"$f":"VLOOKUP(D109,[1]Sheet1!$C$2:$H$21,6,0)","v":1},"231130304726",2,"6月15日下午"]
[107,"开平市第七中学","教务处专业技术岗位十一级至十三级","2311266130553","1：5",{"$f":"VLOOKUP(D110,[1]Sheet1!$C$2:$H$21,6,0)","v":1},"231130300514",3,"6月15日下午"]
[108,"开平市第七中学","教务处专业技术岗位十一级至十三级","2311266130553","1：5",{"$f":"VLOOKUP(D111,[1]Sheet1!$C$2:$H$21,6,0)","v":1},"231130701016",4,"6月15日下午"]
[109,"开平市第七中学","教务处专业技术岗位十一级至十三级","2311266130553","1：5",{"$f":"VLOOKUP(D112,[1]Sheet1!$C$2:$H$21,6,0)","v":1},"231130102719",5,"6月15日下午"]
[110,"开平市风采实验学校","教务处专业技术岗位十一级至十三级","2311266130554","1：5",{"$f":"VLOOKUP(D113,[1]Sheet1!$C$2:$H$21,6,0)","v":1},"231130202726",1,"6月15日下午"]
[111,"开平市风采实验学校","教务处专业技术岗位十一级至十三级","2311266130554","1：5",{"$f":"VLOOKUP(D114,[1]Sheet1!$C$2:$H$21,6,0)","v":1},"231131002030",2,"6月15日下午"]
[112,"开平市风采实验学校","教务处专业技术岗位十一级至十三级","2311266130554","1：5",{"$f":"VLOOKUP(D115,[1]Sheet1!$C$2:$H$21,6,0)","v":1},"231130801822",3,"6月15日下午"]
[113,"开平市风采实验学校","教务处专业技术岗位十一级至十三级","2311266130554","1：5",{"$f":"VLOOKUP(D116,[1]Sheet1!$C$2:$H$21,6,0)","v":1},"231130109122",4,"6月15日下午"]
[114,"开平市风采实验学校","教务处专业技术岗位十一级至十三级","2311266130554","1：5",{"$f":"VLOOKUP(D117,[1]Sheet1!$C$2:$H$21,6,0)","v":1},"231130802325",5,"6月15日下午"]
[115,"开平市风采实验学校","教务处专业技术岗位十一级至十三级","2311266130555","1：5",{"$f":"VLOOKUP(D118,[1]Sheet1!$C$2:$H$21,6,0)","v":1},"231130302318",1,"6月15日下午"]
[116,"开平市风采实验学校","教务处专业技术岗位十一级至十三级","2311266130555","1：5",{"$f":"VLOOKUP(D119,[1]Sheet1!$C$2:$H$21,6,0)","v":1},"231130601802",2,"6月15日下午"]
[117,"开平市风采实验学校","教务处专业技术岗位十一级至十三级","2311266130555","1：5",{"$f":"VLOOKUP(D120,[1]Sheet1!$C$2:$H$21,6,0)","v":1},"231130407118",3,"6月15日下午"]
[118,"开平市风采实验学校","教务处专业技术岗位十一级至十三级","2311266130555","1：5",{"$f":"VLOOKUP(D121,[1]Sheet1!$C$2:$H$21,6,0)","v":1},"231130206428",4,"6月15日下午"]
[119,"开平市风采实验学校","教务处专业技术岗位十一级至十三级","2311266130555","1：5",{"$f":"VLOOKUP(D122,[1]Sheet1!$C$2:$H$21,6,0)","v":1},"231130403312",5,"6月15日下午"]
[120,"开平市风采实验学校","教务处专业技术岗位十一级至十三级","2311266130556","1：5",{"$f":"VLOOKUP(D123,[1]Sheet1!$C$2:$H$21,6,0)","v":1},"231130902427",1,"6月15日下午"]
[121,"开平市风采实验学校","教务处专业技术岗位十一级至十三级","2311266130556","1：5",{"$f":"VLOOKUP(D124,[1]Sheet1!$C$2:$H$21,6,0)","v":1},"231131002327",2,"6月15日下午"]
[122,"开平市风采实验学校","教务处专业技术岗位十一级至十三级","2311266130556","1：5",{"$f":"VLOOKUP(D125,[1]Sheet1!$C$2:$H$21,6,0)","v":1},"231130908426",3,"6月15日下午"]
[123,"开平市风采实验学校","教务处专业技术岗位十一级至十三级","2311266130556","1：5",{"$f":"VLOOKUP(D126,[1]Sheet1!$C$2:$H$21,6,0)","v":1},"231130908507",4,"6月15日下午"]
[124,"开平市风采实验学校","教务处专业技术岗位十一级至十三级","2311266130556","1：5",{"$f":"VLOOKUP(D127,[1]Sheet1!$C$2:$H$21,6,0)","v":1},"231130904706",5,"6月15日下午"]
[125,"开平市吴汉良理工学校","教务处专业技术岗位十一级至十三级","2311266130557","1：5",{"$f":"VLOOKUP(D128,[1]Sheet1!$C$2:$H$21,6,0)","v":1},"231130902210",1,"6月15日下午"]
[126,"开平市吴汉良理工学校","教务处专业技术岗位十一级至十三级","2311266130557","1：5",{"$f":"VLOOKUP(D129,[1]Sheet1!$C$2:$H$21,6,0)","v":1},"231130400921",2,"6月15日下午"]
[127,"开平市吴汉良理工学校","教务处专业技术岗位十一级至十三级","2311266130557","1：5",{"$f":"VLOOKUP(D130,[1]Sheet1!$C$2:$H$21,6,0)","v":1},"231130105420",3,"6月15日下午"]
[128,"开平市吴汉良理工学校","教务处专业技术岗位十一级至十三级","2311266130557","1：5",{"$f":"VLOOKUP(D131,[1]Sheet1!$C$2:$H$21,6,0)","v":1},"231130200103",4,"6月15日下午"]
[129,"开平市吴汉良理工学校","教务处专业技术岗位十一级至十三级","2311266130557","1：5",{"$f":"VLOOKUP(D132,[1]Sheet1!$C$2:$H$21,6,0)","v":1},"231130603024",5,"6月15日下午"]