{"text_format":"3","workbook":"xlsx","n_sheets":1,"sheets":["Sheet1"],"not_rendered":{"external_links":1,"comments":1},"read":"whole","date_system":"1900"}

{"sheet":"Sheet1","index":0,"n_rows":155,"n_cols":17,"rows_kept":155,"merged":[[0,0,0,16],[1,15,1,16],[2,0,2,3],[2,15,2,16],[3,0,5,0],[3,1,4,2],[3,3,4,4],[3,5,3,10],[3,11,4,12],[3,13,3,14],[3,15,4,16],[4,5,4,6],[4,7,4,8],[4,9,4,10],[4,13,4,14],[23,0,23,16],[24,0,24,1],[24,11,24,12],[24,13,24,14],[26,0,26,16],[27,15,27,16],[28,0,28,3],[28,15,28,16],[29,0,31,0],[29,1,29,2],[29,3,30,4],[29,5,29,10],[29,11,30,12],[29,13,29,16],[30,1,30,2],[30,5,30,6],[30,7,30,8],[30,9,30,10],[30,13,30,14],[30,15,30,16],[49,0,49,16],[50,0,50,1],[50,11,50,12],[50,13,50,14],[52,0,52,16],[53,15,53,16],[54,0,54,3],[54,15,54,16],[55,0,57,0],[55,1,55,2],[55,3,56,4],[55,5,55,8],[55,9,56,10],[55,11,55,16],[56,1,56,2],[56,5,56,6],[56,7,56,8],[56,11,56,12],[56,13,56,14],[56,15,56,16],[75,0,75,16],[76,0,76,1],[76,11,76,12],[76,13,76,14],[78,0,78,16],[79,15,79,16],[80,0,80,3],[80,15,80,16],[81,0,83,0],[81,1,82,2],[81,3,81,6],[81,7,82,8],[81,9,81,10],[81,11,82,12],[81,13,82,14],[81,15,82,16],[82,3,82,4],[82,5,82,6],[82,9,82,10],[101,0,101,16],[102,0,102,1],[102,11,102,12],[102,13,102,14],[104,0,104,16],[105,15,105,16],[106,0,106,3],[106,15,106,16],[107,0,109,0],[107,1,107,4],[107,5,108,6],[107,7,107,8],[107,9,108,10],[107,11,107,16],[108,1,108,2],[108,3,108,4],[108,7,108,8],[108,11,108,12],[108,13,108,14],[108,15,108,16],[127,0,127,16],[128,0,128,1],[128,11,128,12],[128,13,128,14],[130,0,130,16],[131,15,131,16],[132,0,132,3],[132,15,132,16],[133,0,135,0],[133,1,133,2],[134,1,134,2],[153,0,153,16],[154,0,154,1],[154,11,154,12],[154,13,154,14]]}
["蔬菜、瓜果生产季节台账（一）"]
[]
[{"$f":"'[1]1季度打印'!A3","v":"综合机关名称：开平市沙塘镇"},{"$nulls":5},2018,"年",{"$nulls":6},"单位：","亩、吨"]
["单位\n名称","一、蔬菜及食用菌",null,"（一）、叶菜类",null,"             其                      中 ",{"$nulls":5},"（二）、白菜",null,"其   中",null,"（三）、甘蓝类"]
[{"$nulls":5},"芹    菜",null,"油    菜",null,"菠    菜",{"$nulls":3},"大白菜"]
[null,"面积","产量","面积","产量","面积","产量","面积","产量","面积","产量","面积","产量","面积","产量","面积","产量"]
["代码",1,2,3,4,5,6,7,8,9,10,11,12,13,14,15,16]
[{"$f":"'[1]1季度'!A7","v":"合计"},{"$f":"[1]全年!B7","v":11660.71},{"$f":"[1]全年!C7","v":13498.71},{"$f":"[1]全年!D7","v":5016.03},{"$f":"[1]全年!E7","v":4901.11},{"$f":"[1]全年!F7","v":461.43},{"$f":"[1]全年!G7","v":363.14},{"$f":"[1]全年!H7","v":3028.7},{"$f":"[1]全年!I7","v":2028.63},{"$f":"[1]全年!J7","v":1503.55},{"$f":"[1]全年!K7","v":1001.75},{"$f":"[1]全年!L7","v":1697.21},{"$f":"[1]全年!M7","v":2066.02},{"$f":"[1]全年!N7","v":866.03},{"$f":"[1]全年!O7","v":1456.49},{"$f":"[1]全年!P7","v":65.26},{"$f":"[1]全年!Q7","v":100.59}]
[{"$f":"'[1]1季度'!A8","v":"丽新"},{"$f":"[1]全年!B8","v":894.93},{"$f":"[1]全年!C8","v":1018.86},{"$f":"[1]全年!D8","v":405.12},{"$f":"[1]全年!E8","v":373.44},{"$f":"[1]全年!F8","v":26.65},{"$f":"[1]全年!G8","v":23.01},{"$f":"[1]全年!H8","v":261.57},{"$f":"[1]全年!I8","v":161.02},{"$f":"[1]全年!J8","v":117.08},{"$f":"[1]全年!K8","v":74.92},{"$f":"[1]全年!L8","v":102.47},{"$f":"[1]全年!M8","v":121.21},{"$f":"[1]全年!N8","v":52.67},{"$f":"[1]全年!O8","v":86.39},{"$f":"[1]全年!P8","v":7.74},{"$f":"[1]全年!Q8","v":11.49}]
[{"$f":"'[1]1季度'!A9","v":"泰山"},{"$f":"[1]全年!B9","v":696.91},{"$f":"[1]全年!C9","v":786.34},{"$f":"[1]全年!D9","v":349.97},{"$f":"[1]全年!E9","v":330.89},{"$f":"[1]全年!F9","v":25.73},{"$f":"[1]全年!G9","v":19.87},{"$f":"[1]全年!H9","v":224.6},{"$f":"[1]全年!I9","v":141.38},{"$f":"[1]全年!J9","v":90.32},{"$f":"[1]全年!K9","v":56.08},{"$f":"[1]全年!L9","v":54.82},{"$f":"[1]全年!M9","v":67.53},{"$f":"[1]全年!N9","v":28.37},{"$f":"[1]全年!O9","v":50.62},{"$f":"[1]全年!P9","v":4.79},{"$f":"[1]全年!Q9","v":8.2}]
[{"$f":"'[1]1季度'!A10","v":"丽群"},{"$f":"[1]全年!B10","v":876.81},{"$f":"[1]全年!C10","v":1001.46},{"$f":"[1]全年!D10","v":350.33},{"$f":"[1]全年!E10","v":332.76},{"$f":"[1]全年!F10","v":25.73},{"$f":"[1]全年!G10","v":18.36},{"$f":"[1]全年!H10","v":243.49},{"$f":"[1]全年!I10","v":168.84},{"$f":"[1]全年!J10","v":84.75},{"$f":"[1]全年!K10","v":56.22},{"$f":"[1]全年!L10","v":239},{"$f":"[1]全年!M10","v":296.24},{"$f":"[1]全年!N10","v":132.62},{"$f":"[1]全年!O10","v":216.63},{"$f":"[1]全年!P10","v":7},{"$f":"[1]全年!Q10","v":10.39}]
[{"$f":"'[1]1季度'!A11","v":"下丽"},{"$f":"[1]全年!B11","v":523.55},{"$f":"[1]全年!C11","v":531.28},{"$f":"[1]全年!D11","v":251.54},{"$f":"[1]全年!E11","v":194.49},{"$f":"[1]全年!F11","v":23.8},{"$f":"[1]全年!G11","v":14.23},{"$f":"[1]全年!H11","v":146.44},{"$f":"[1]全年!I11","v":87.32},{"$f":"[1]全年!J11","v":61.36},{"$f":"[1]全年!K11","v":33.25},{"$f":"[1]全年!L11","v":73.57},{"$f":"[1]全年!M11","v":80.38},{"$f":"[1]全年!N11","v":30.95},{"$f":"[1]全年!O11","v":53.13},{"$f":"[1]全年!P11","v":0},{"$f":"[1]全年!Q11","v":0}]
[{"$f":"'[1]1季度'!A12","v":"塘浪"},{"$f":"[1]全年!B12","v":1096.65},{"$f":"[1]全年!C12","v":1267.54},{"$f":"[1]全年!D12","v":414.45},{"$f":"[1]全年!E12","v":457.14},{"$f":"[1]全年!F12","v":55.46},{"$f":"[1]全年!G12","v":48.75},{"$f":"[1]全年!H12","v":185.82},{"$f":"[1]全年!I12","v":118.05},{"$f":"[1]全年!J12","v":196.57},{"$f":"[1]全年!K12","v":143.72},{"$f":"[1]全年!L12","v":82.88},{"$f":"[1]全年!M12","v":97.86},{"$f":"[1]全年!N12","v":42.05},{"$f":"[1]全年!O12","v":65.36},{"$f":"[1]全年!P12","v":7.74},{"$f":"[1]全年!Q12","v":11.3}]
[{"$f":"'[1]1季度'!A13","v":"西村"},{"$f":"[1]全年!B13","v":495.96},{"$f":"[1]全年!C13","v":587.84},{"$f":"[1]全年!D13","v":182.28},{"$f":"[1]全年!E13","v":177.28},{"$f":"[1]全年!F13","v":25.73},{"$f":"[1]全年!G13","v":17.36},{"$f":"[1]全年!H13","v":109.76},{"$f":"[1]全年!I13","v":77.55},{"$f":"[1]全年!J13","v":34.59},{"$f":"[1]全年!K13","v":21.83},{"$f":"[1]全年!L13","v":96.9},{"$f":"[1]全年!M13","v":112.89},{"$f":"[1]全年!N13","v":51.58},{"$f":"[1]全年!O13","v":88.93},{"$f":"[1]全年!P13","v":3.69},{"$f":"[1]全年!Q13","v":6.01}]
[{"$f":"'[1]1季度'!A14","v":"健丰"},{"$f":"[1]全年!B14","v":542.92},{"$f":"[1]全年!C14","v":641.84},{"$f":"[1]全年!D14","v":208.39},{"$f":"[1]全年!E14","v":200.21},{"$f":"[1]全年!F14","v":29.73},{"$f":"[1]全年!G14","v":19.87},{"$f":"[1]全年!H14","v":122.34},{"$f":"[1]全年!I14","v":89.03},{"$f":"[1]全年!J14","v":38.23},{"$f":"[1]全年!K14","v":21.83},{"$f":"[1]全年!L14","v":107.49},{"$f":"[1]全年!M14","v":135.9},{"$f":"[1]全年!N14","v":54.16},{"$f":"[1]全年!O14","v":87.69},{"$f":"[1]全年!P14","v":2.95},{"$f":"[1]全年!Q14","v":4.19}]
[{"$f":"'[1]1季度'!A15","v":"东方"},{"$f":"[1]全年!B15","v":769.49},{"$f":"[1]全年!C15","v":943.01},{"$f":"[1]全年!D15","v":330.12},{"$f":"[1]全年!E15","v":360},{"$f":"[1]全年!F15","v":35.44},{"$f":"[1]全年!G15","v":30.67},{"$f":"[1]全年!H15","v":175.17},{"$f":"[1]全年!I15","v":118.98},{"$f":"[1]全年!J15","v":112.96},{"$f":"[1]全年!K15","v":78.2},{"$f":"[1]全年!L15","v":78.4},{"$f":"[1]全年!M15","v":91.02},{"$f":"[1]全年!N15","v":37.99},{"$f":"[1]全年!O15","v":60.31},{"$f":"[1]全年!P15","v":5.9},{"$f":"[1]全年!Q15","v":9.3}]
[{"$f":"'[1]1季度'!A16","v":"联光"},{"$f":"[1]全年!B16","v":780.81},{"$f":"[1]全年!C16","v":929.34},{"$f":"[1]全年!D16","v":368.17},{"$f":"[1]全年!E16","v":381.97},{"$f":"[1]全年!F16","v":31.44},{"$f":"[1]全年!G16","v":26.15},{"$f":"[1]全年!H16","v":280.32},{"$f":"[1]全年!I16","v":172.95},{"$f":"[1]全年!J16","v":102.1},{"$f":"[1]全年!K16","v":69.63},{"$f":"[1]全年!L16","v":126},{"$f":"[1]全年!M16","v":157.31},{"$f":"[1]全年!N16","v":64.47},{"$f":"[1]全年!O16","v":109.15},{"$f":"[1]全年!P16","v":3.69},{"$f":"[1]全年!Q16","v":6.01}]
[{"$f":"'[1]1季度'!A17","v":"红岭"},{"$f":"[1]全年!B17","v":701.24},{"$f":"[1]全年!C17","v":823.89},{"$f":"[1]全年!D17","v":231.55},{"$f":"[1]全年!E17","v":225.65},{"$f":"[1]全年!F17","v":22.8},{"$f":"[1]全年!G17","v":19.71},{"$f":"[1]全年!H17","v":156.04},{"$f":"[1]全年!I17","v":104.88},{"$f":"[1]全年!J17","v":45.38},{"$f":"[1]全年!K17","v":23.98},{"$f":"[1]全年!L17","v":79.77},{"$f":"[1]全年!M17","v":95.8},{"$f":"[1]全年!N17","v":41.27},{"$f":"[1]全年!O17","v":75.86},{"$f":"[1]全年!P17","v":4.05},{"$f":"[1]全年!Q17","v":6.38}]
[{"$f":"'[1]1季度'!A18","v":"台洞"},{"$f":"[1]全年!B18","v":1151.13},{"$f":"[1]全年!C18","v":1293.85},{"$f":"[1]全年!D18","v":707.26},{"$f":"[1]全年!E18","v":695.65},{"$f":"[1]全年!F18","v":52.3},{"$f":"[1]全年!G18","v":40.48},{"$f":"[1]全年!H18","v":478.8},{"$f":"[1]全年!I18","v":340.48},{"$f":"[1]全年!J18","v":183.73},{"$f":"[1]全年!K18","v":136.8},{"$f":"[1]全年!L18","v":62.39},{"$f":"[1]全年!M18","v":82.25},{"$f":"[1]全年!N18","v":32.13},{"$f":"[1]全年!O18","v":61.66},{"$f":"[1]全年!P18","v":3.69},{"$f":"[1]全年!Q18","v":6.01}]
[{"$f":"'[1]1季度'!A19","v":"锦星"},{"$f":"[1]全年!B19","v":640.92},{"$f":"[1]全年!C19","v":768.12},{"$f":"[1]全年!D19","v":238},{"$f":"[1]全年!E19","v":230.79},{"$f":"[1]全年!F19","v":21.8},{"$f":"[1]全年!G19","v":14.71},{"$f":"[1]全年!H19","v":182.02},{"$f":"[1]全年!I19","v":119.15},{"$f":"[1]全年!J19","v":50.02},{"$f":"[1]全年!K19","v":24.98},{"$f":"[1]全年!L19","v":97.46},{"$f":"[1]全年!M19","v":111.26},{"$f":"[1]全年!N19","v":49.01},{"$f":"[1]全年!O19","v":86.42},{"$f":"[1]全年!P19","v":3.69},{"$f":"[1]全年!Q19","v":6.01}]
[{"$f":"'[1]1季度'!A20","v":"芙冈"},{"$f":"[1]全年!B20","v":803.88},{"$f":"[1]全年!C20","v":956.85},{"$f":"[1]全年!D20","v":251.84},{"$f":"[1]全年!E20","v":231.79},{"$f":"[1]全年!F20","v":25.73},{"$f":"[1]全年!G20","v":24.36},{"$f":"[1]全年!H20","v":148.35},{"$f":"[1]全年!I20","v":105.41},{"$f":"[1]全年!J20","v":47.45},{"$f":"[1]全年!K20","v":24.98},{"$f":"[1]全年!L20","v":246.27},{"$f":"[1]全年!M20","v":315.04},{"$f":"[1]全年!N20","v":134.11},{"$f":"[1]全年!O20","v":221.24},{"$f":"[1]全年!P20","v":3.69},{"$f":"[1]全年!Q20","v":6.01}]
[{"$f":"'[1]1季度'!A21","v":"清湖塘"},{"$f":"[1]全年!B21","v":811.16},{"$f":"[1]全年!C21","v":935.39},{"$f":"[1]全年!D21","v":353.95},{"$f":"[1]全年!E21","v":358.25},{"$f":"[1]全年!F21","v":25.73},{"$f":"[1]全年!G21","v":16.84},{"$f":"[1]全年!H21","v":237.64},{"$f":"[1]全年!I21","v":174.61},{"$f":"[1]全年!J21","v":89.75},{"$f":"[1]全年!K21","v":55.22},{"$f":"[1]全年!L21","v":128.78},{"$f":"[1]全年!M21","v":150.57},{"$f":"[1]全年!N21","v":64.47},{"$f":"[1]全年!O21","v":109.99},{"$f":"[1]全年!P21","v":2.95},{"$f":"[1]全年!Q21","v":4.19}]
[{"$f":"'[1]1季度'!A22","v":"蓢畔"},{"$f":"[1]全年!B22","v":874.35},{"$f":"[1]全年!C22","v":1013.1},{"$f":"[1]全年!D22","v":373.06},{"$f":"[1]全年!E22","v":350.8},{"$f":"[1]全年!F22","v":33.36},{"$f":"[1]全年!G22","v":28.77},{"$f":"[1]全年!H22","v":76.34},{"$f":"[1]全年!I22","v":48.98},{"$f":"[1]全年!J22","v":249.26},{"$f":"[1]全年!K22","v":180.11},{"$f":"[1]全年!L22","v":121.01},{"$f":"[1]全年!M22","v":150.76},{"$f":"[1]全年!N22","v":50.18},{"$f":"[1]全年!O22","v":83.11},{"$f":"[1]全年!P22","v":3.69},{"$f":"[1]全年!Q22","v":5.1}]
["说明：蔬菜、瓜果面积是指季末实有面积，蔬菜、瓜果产量为本季度单季合计数，不填累计数。"]
["单位负责人：",null,"胡伏龙",{"$nulls":3},"填表人：","张静文",{"$nulls":3},"填报日期：",null,"2018-12-01"]
[]
["蔬菜、瓜果生产季节台账（二）"]
[]
[{"$f":"A3","v":"综合机关名称：开平市沙塘镇"},{"$nulls":5},2018,"年",{"$nulls":6},"单位：","亩、吨"]
["单位\n名称","其    中",null,"（四）、根茎类",null,"其                      中",{"$nulls":5},"（五）、瓜菜类",null,"其"]
[null,"卷心菜（结球甘蓝）",{"$nulls":3},"白萝卜",null,"胡萝卜",null,"生姜",{"$nulls":3},"黄瓜",null,"南瓜"]
[null,"面积","产量","面积","产量","面积","产量","面积","产量","面积","产量","面积","产量","面积","产量","面积","产量"]
["代码",17,18,19,20,21,22,23,24,25,26,27,28,29,30,31,32]
[{"$f":"'[1]1季度'!A7","v":"合计"},{"$f":"[1]全年!R7","v":0},{"$f":"[1]全年!S7","v":0},{"$f":"[1]全年!T7","v":632.81},{"$f":"[1]全年!U7","v":916.28},{"$f":"[1]全年!V7","v":109.92},{"$f":"[1]全年!W7","v":191.34},{"$f":"[1]全年!X7","v":235.72},{"$f":"[1]全年!Y7","v":474.77},{"$f":"[1]全年!Z7","v":169.4},{"$f":"[1]全年!AA7","v":236.98},{"$f":"[1]全年!AB7","v":525.14},{"$f":"[1]全年!AC7","v":755.69},{"$f":"[1]全年!AD7","v":121.25},{"$f":"[1]全年!AE7","v":182.34},{"$f":"[1]全年!AF7","v":29.03},{"$f":"[1]全年!AG7","v":44.45}]
[{"$f":"'[1]1季度'!A8","v":"丽新"},{"$f":"[1]全年!R8","v":0},{"$f":"[1]全年!S8","v":0},{"$f":"[1]全年!T8","v":43.15},{"$f":"[1]全年!U8","v":64.36},{"$f":"[1]全年!V8","v":6.91},{"$f":"[1]全年!W8","v":15.25},{"$f":"[1]全年!X8","v":16.89},{"$f":"[1]全年!Y8","v":43.77},{"$f":"[1]全年!Z8","v":10.97},{"$f":"[1]全年!AA8","v":14.86},{"$f":"[1]全年!AB8","v":33.62},{"$f":"[1]全年!AC8","v":51.48},{"$f":"[1]全年!AD8","v":8.32},{"$f":"[1]全年!AE8","v":12.16},{"$f":"[1]全年!AF8","v":3.63},{"$f":"[1]全年!AG8","v":5.71}]
[{"$f":"'[1]1季度'!A9","v":"泰山"},{"$f":"[1]全年!R9","v":0},{"$f":"[1]全年!S9","v":0},{"$f":"[1]全年!T9","v":30.09},{"$f":"[1]全年!U9","v":42.57},{"$f":"[1]全年!V9","v":3.98},{"$f":"[1]全年!W9","v":7.27},{"$f":"[1]全年!X9","v":8.89},{"$f":"[1]全年!Y9","v":18.99},{"$f":"[1]全年!Z9","v":9.97},{"$f":"[1]全年!AA9","v":12.86},{"$f":"[1]全年!AB9","v":29.74},{"$f":"[1]全年!AC9","v":44.64},{"$f":"[1]全年!AD9","v":5.94},{"$f":"[1]全年!AE9","v":9.72},{"$f":"[1]全年!AF9","v":2.18},{"$f":"[1]全年!AG9","v":3.57}]
[{"$f":"'[1]1季度'!A10","v":"丽群"},{"$f":"[1]全年!R10","v":0},{"$f":"[1]全年!S10","v":0},{"$f":"[1]全年!T10","v":41.88},{"$f":"[1]全年!U10","v":58.91},{"$f":"[1]全年!V10","v":6.91},{"$f":"[1]全年!W10","v":13.29},{"$f":"[1]全年!X10","v":16.89},{"$f":"[1]全年!Y10","v":34.96},{"$f":"[1]全年!Z10","v":11.97},{"$f":"[1]全年!AA10","v":16.8},{"$f":"[1]全年!AB10","v":31.22},{"$f":"[1]全年!AC10","v":41.83},{"$f":"[1]全年!AD10","v":5.94},{"$f":"[1]全年!AE10","v":9.72},{"$f":"[1]全年!AF10","v":3.63},{"$f":"[1]全年!AG10","v":4.99}]
[{"$f":"'[1]1季度'!A11","v":"下丽"},{"$f":"[1]全年!R11","v":0},{"$f":"[1]全年!S11","v":0},{"$f":"[1]全年!T11","v":30.09},{"$f":"[1]全年!U11","v":38.47},{"$f":"[1]全年!V11","v":3.98},{"$f":"[1]全年!W11","v":7.69},{"$f":"[1]全年!X11","v":8.44},{"$f":"[1]全年!Y11","v":17.8},{"$f":"[1]全年!Z11","v":8.97},{"$f":"[1]全年!AA11","v":10.86},{"$f":"[1]全年!AB11","v":11.42},{"$f":"[1]全年!AC11","v":15.38},{"$f":"[1]全年!AD11","v":2.38},{"$f":"[1]全年!AE11","v":3.24},{"$f":"[1]全年!AF11","v":0},{"$f":"[1]全年!AG11","v":0}]
[{"$f":"'[1]1季度'!A12","v":"塘浪"},{"$f":"[1]全年!R12","v":0},{"$f":"[1]全年!S12","v":0},{"$f":"[1]全年!T12","v":75.61},{"$f":"[1]全年!U12","v":88.51},{"$f":"[1]全年!V12","v":14.87},{"$f":"[1]全年!W12","v":21.4},{"$f":"[1]全年!X12","v":26.23},{"$f":"[1]全年!Y12","v":46.44},{"$f":"[1]全年!Z12","v":17.91},{"$f":"[1]全年!AA12","v":21.54},{"$f":"[1]全年!AB12","v":56.45},{"$f":"[1]全年!AC12","v":82.51},{"$f":"[1]全年!AD12","v":11.89},{"$f":"[1]全年!AE12","v":19.45},{"$f":"[1]全年!AF12","v":3.63},{"$f":"[1]全年!AG12","v":4.99}]
[{"$f":"'[1]1季度'!A13","v":"西村"},{"$f":"[1]全年!R13","v":0},{"$f":"[1]全年!S13","v":0},{"$f":"[1]全年!T13","v":31},{"$f":"[1]全年!U13","v":52.34},{"$f":"[1]全年!V13","v":8.78},{"$f":"[1]全年!W13","v":11.61},{"$f":"[1]全年!X13","v":17.34},{"$f":"[1]全年!Y13","v":27.99},{"$f":"[1]全年!Z13","v":8.98},{"$f":"[1]全年!AA13","v":13.8},{"$f":"[1]全年!AB13","v":17.41},{"$f":"[1]全年!AC13","v":24.57},{"$f":"[1]全年!AD13","v":5.94},{"$f":"[1]全年!AE13","v":9.72},{"$f":"[1]全年!AF13","v":1.45},{"$f":"[1]全年!AG13","v":2.45}]
[{"$f":"'[1]1季度'!A14","v":"健丰"},{"$f":"[1]全年!R14","v":0},{"$f":"[1]全年!S14","v":0},{"$f":"[1]全年!T14","v":27.93},{"$f":"[1]全年!U14","v":42.2},{"$f":"[1]全年!V14","v":6.38},{"$f":"[1]全年!W14","v":11.61},{"$f":"[1]全年!X14","v":9.34},{"$f":"[1]全年!Y14","v":19.73},{"$f":"[1]全年!Z14","v":8.97},{"$f":"[1]全年!AA14","v":13.73},{"$f":"[1]全年!AB14","v":30.02},{"$f":"[1]全年!AC14","v":47.16},{"$f":"[1]全年!AD14","v":4.76},{"$f":"[1]全年!AE14","v":8.1},{"$f":"[1]全年!AF14","v":1.45},{"$f":"[1]全年!AG14","v":2.45}]
[{"$f":"'[1]1季度'!A15","v":"东方"},{"$f":"[1]全年!R15","v":0},{"$f":"[1]全年!S15","v":0},{"$f":"[1]全年!T15","v":48.05},{"$f":"[1]全年!U15","v":62.54},{"$f":"[1]全年!V15","v":7.43},{"$f":"[1]全年!W15","v":10.91},{"$f":"[1]全年!X15","v":17.79},{"$f":"[1]全年!Y15","v":28.64},{"$f":"[1]全年!Z15","v":8.96},{"$f":"[1]全年!AA15","v":12.67},{"$f":"[1]全年!AB15","v":32.14},{"$f":"[1]全年!AC15","v":49.32},{"$f":"[1]全年!AD15","v":5.94},{"$f":"[1]全年!AE15","v":8.1},{"$f":"[1]全年!AF15","v":2.18},{"$f":"[1]全年!AG15","v":3.57}]
[{"$f":"'[1]1季度'!A16","v":"联光"},{"$f":"[1]全年!R16","v":0},{"$f":"[1]全年!S16","v":0},{"$f":"[1]全年!T16","v":50.42},{"$f":"[1]全年!U16","v":79.59},{"$f":"[1]全年!V16","v":9.83},{"$f":"[1]全年!W16","v":20.43},{"$f":"[1]全年!X16","v":26.33},{"$f":"[1]全年!Y16","v":61.57},{"$f":"[1]全年!Z16","v":11.96},{"$f":"[1]全年!AA16","v":16.73},{"$f":"[1]全年!AB16","v":40.24},{"$f":"[1]全年!AC16","v":60.66},{"$f":"[1]全年!AD16","v":8.32},{"$f":"[1]全年!AE16","v":12.97},{"$f":"[1]全年!AF16","v":1.45},{"$f":"[1]全年!AG16","v":2.45}]
[{"$f":"'[1]1季度'!A17","v":"红岭"},{"$f":"[1]全年!R17","v":0},{"$f":"[1]全年!S17","v":0},{"$f":"[1]全年!T17","v":34.09},{"$f":"[1]全年!U17","v":52.44},{"$f":"[1]全年!V17","v":4.51},{"$f":"[1]全年!W17","v":7.27},{"$f":"[1]全年!X17","v":8.89},{"$f":"[1]全年!Y17","v":18.44},{"$f":"[1]全年!Z17","v":10.97},{"$f":"[1]全年!AA17","v":15.73},{"$f":"[1]全年!AB17","v":30.02},{"$f":"[1]全年!AC17","v":45.2},{"$f":"[1]全年!AD17","v":7.13},{"$f":"[1]全年!AE17","v":11.35},{"$f":"[1]全年!AF17","v":2.18},{"$f":"[1]全年!AG17","v":3.57}]
[{"$f":"'[1]1季度'!A18","v":"台洞"},{"$f":"[1]全年!R18","v":0},{"$f":"[1]全年!S18","v":0},{"$f":"[1]全年!T18","v":57.67},{"$f":"[1]全年!U18","v":80.72},{"$f":"[1]全年!V18","v":9.54},{"$f":"[1]全年!W18","v":15.8},{"$f":"[1]全年!X18","v":18.59},{"$f":"[1]全年!Y18","v":32.12},{"$f":"[1]全年!Z18","v":11.94},{"$f":"[1]全年!AA18","v":16.67},{"$f":"[1]全年!AB18","v":53.77},{"$f":"[1]全年!AC18","v":83.83},{"$f":"[1]全年!AD18","v":11.89},{"$f":"[1]全年!AE18","v":17.83},{"$f":"[1]全年!AF18","v":1.45},{"$f":"[1]全年!AG18","v":2.14}]
[{"$f":"'[1]1季度'!A19","v":"锦星"},{"$f":"[1]全年!R19","v":0},{"$f":"[1]全年!S19","v":0},{"$f":"[1]全年!T19","v":43.7},{"$f":"[1]全年!U19","v":66.86},{"$f":"[1]全年!V19","v":7.43},{"$f":"[1]全年!W19","v":13.29},{"$f":"[1]全年!X19","v":16.44},{"$f":"[1]全年!Y19","v":34.32},{"$f":"[1]全年!Z19","v":11.94},{"$f":"[1]全年!AA19","v":16.6},{"$f":"[1]全年!AB19","v":32.42},{"$f":"[1]全年!AC19","v":43.88},{"$f":"[1]全年!AD19","v":9.51},{"$f":"[1]全年!AE19","v":12.97},{"$f":"[1]全年!AF19","v":1.45},{"$f":"[1]全年!AG19","v":2.14}]
[{"$f":"'[1]1季度'!A20","v":"芙冈"},{"$f":"[1]全年!R20","v":0},{"$f":"[1]全年!S20","v":0},{"$f":"[1]全年!T20","v":31.91},{"$f":"[1]全年!U20","v":50.91},{"$f":"[1]全年!V20","v":4.51},{"$f":"[1]全年!W20","v":8.11},{"$f":"[1]全年!X20","v":9.89},{"$f":"[1]全年!Y20","v":19.44},{"$f":"[1]全年!Z20","v":10.97},{"$f":"[1]全年!AA20","v":15.73},{"$f":"[1]全年!AB20","v":41.44},{"$f":"[1]全年!AC20","v":54.57},{"$f":"[1]全年!AD20","v":9.51},{"$f":"[1]全年!AE20","v":12.97},{"$f":"[1]全年!AF20","v":1.45},{"$f":"[1]全年!AG20","v":2.14}]
[{"$f":"'[1]1季度'!A21","v":"清湖塘"},{"$f":"[1]全年!R21","v":0},{"$f":"[1]全年!S21","v":0},{"$f":"[1]全年!T21","v":28.84},{"$f":"[1]全年!U21","v":46.44},{"$f":"[1]全年!V21","v":3.45},{"$f":"[1]全年!W21","v":6.85},{"$f":"[1]全年!X21","v":8.44},{"$f":"[1]全年!Y21","v":17.8},{"$f":"[1]全年!Z21","v":11.98},{"$f":"[1]全年!AA21","v":18.8},{"$f":"[1]全年!AB21","v":30.6},{"$f":"[1]全年!AC21","v":40.33},{"$f":"[1]全年!AD21","v":9.51},{"$f":"[1]全年!AE21","v":12.97},{"$f":"[1]全年!AF21","v":1.45},{"$f":"[1]全年!AG21","v":2.14}]
[{"$f":"'[1]1季度'!A22","v":"蓢畔"},{"$f":"[1]全年!R22","v":0},{"$f":"[1]全年!S22","v":0},{"$f":"[1]全年!T22","v":58.38},{"$f":"[1]全年!U22","v":89.42},{"$f":"[1]全年!V22","v":11.41},{"$f":"[1]全年!W22","v":20.56},{"$f":"[1]全年!X22","v":25.33},{"$f":"[1]全年!Y22","v":52.76},{"$f":"[1]全年!Z22","v":12.94},{"$f":"[1]全年!AA22","v":19.6},{"$f":"[1]全年!AB22","v":54.63},{"$f":"[1]全年!AC22","v":70.33},{"$f":"[1]全年!AD22","v":14.27},{"$f":"[1]全年!AE22","v":21.07},{"$f":"[1]全年!AF22","v":1.45},{"$f":"[1]全年!AG22","v":2.14}]
["说明：蔬菜、瓜果面积是指季末实有面积，蔬菜、瓜果产量为本季度单季合计数，不填累计数。"]
["单位负责人：",null,{"$f":"C25","v":"胡伏龙"},{"$nulls":3},"填表人：",{"$f":"H25","v":"张静文"},{"$nulls":3},"填报日期：",null,"2018-12-01"]
[]
["蔬菜、瓜果生产季节台账（三）"]
[]
[{"$f":"A3","v":"综合机关名称：开平市沙塘镇"},{"$nulls":5},2018,"年",{"$nulls":6},"单位：","亩、吨"]
["单位\n名称","中",null,"（六）、豆类",null,"其                  中 ",{"$nulls":3},"（七）、茄果类",null,"其                                        中"]
[null,"冬瓜",{"$nulls":3},"豇   豆",null,"四  季  豆",{"$nulls":3},"茄  子",null,"辣  椒",null,"西 红 柿"]
[null,"面积","产量","面积","产量","面积","产量","面积","产量","面积","产量","面积","产量","面积","产量","面积","产量"]
["代码",33,34,35,36,37,38,39,40,41,42,43,44,45,46,47,48]
[{"$f":"'[1]1季度'!A7","v":"合计"},{"$f":"[1]全年!AH7","v":226.61},{"$f":"[1]全年!AI7","v":243.51},{"$f":"[1]全年!AJ7","v":1041.16},{"$f":"[1]全年!AK7","v":1211.51},{"$f":"[1]全年!AL7","v":357.03},{"$f":"[1]全年!AM7","v":485.83},{"$f":"[1]全年!AN7","v":463.2},{"$f":"[1]全年!AO7","v":184.82},{"$f":"[1]全年!AP7","v":649.32},{"$f":"[1]全年!AQ7","v":863.01},{"$f":"[1]全年!AR7","v":289.3},{"$f":"[1]全年!AS7","v":443.37},{"$f":"[1]全年!AT7","v":83.55},{"$f":"[1]全年!AU7","v":130.09},{"$f":"[1]全年!AV7","v":246.11},{"$f":"[1]全年!AW7","v":611}]
[{"$f":"'[1]1季度'!A8","v":"丽新"},{"$f":"[1]全年!AH8","v":11.33},{"$f":"[1]全年!AI8","v":13.8},{"$f":"[1]全年!AJ8","v":111.99},{"$f":"[1]全年!AK8","v":134.41},{"$f":"[1]全年!AL8","v":23.65},{"$f":"[1]全年!AM8","v":30.65},{"$f":"[1]全年!AN8","v":31.91},{"$f":"[1]全年!AO8","v":11.3},{"$f":"[1]全年!AP8","v":72.62},{"$f":"[1]全年!AQ8","v":110.76},{"$f":"[1]全年!AR8","v":24.3},{"$f":"[1]全年!AS8","v":43.5},{"$f":"[1]全年!AT8","v":25.83},{"$f":"[1]全年!AU8","v":45.59},{"$f":"[1]全年!AV8","v":39.76},{"$f":"[1]全年!AW8","v":97.85}]
[{"$f":"'[1]1季度'!A9","v":"泰山"},{"$f":"[1]全年!AH9","v":6.8},{"$f":"[1]全年!AI9","v":9.86},{"$f":"[1]全年!AJ9","v":94.09},{"$f":"[1]全年!AK9","v":111.16},{"$f":"[1]全年!AL9","v":23.65},{"$f":"[1]全年!AM9","v":30.65},{"$f":"[1]全年!AN9","v":32.51},{"$f":"[1]全年!AO9","v":11.72},{"$f":"[1]全年!AP9","v":21.21},{"$f":"[1]全年!AQ9","v":36.94},{"$f":"[1]全年!AR9","v":4.86},{"$f":"[1]全年!AS9","v":11.95},{"$f":"[1]全年!AT9","v":0},{"$f":"[1]全年!AU9","v":0},{"$f":"[1]全年!AV9","v":15.35},{"$f":"[1]全年!AW9","v":40.81}]
[{"$f":"'[1]1季度'!A10","v":"丽群"},{"$f":"[1]全年!AH10","v":11.33},{"$f":"[1]全年!AI10","v":11.83},{"$f":"[1]全年!AJ10","v":58.07},{"$f":"[1]全年!AK10","v":60.52},{"$f":"[1]全年!AL10","v":20.5},{"$f":"[1]全年!AM10","v":27.24},{"$f":"[1]全年!AN10","v":32.51},{"$f":"[1]全年!AO10","v":11.96},{"$f":"[1]全年!AP10","v":37.11},{"$f":"[1]全年!AQ10","v":52.56},{"$f":"[1]全年!AR10","v":14.58},{"$f":"[1]全年!AS10","v":24.79},{"$f":"[1]全年!AT10","v":0},{"$f":"[1]全年!AU10","v":0},{"$f":"[1]全年!AV10","v":15.35},{"$f":"[1]全年!AW10","v":38.98}]
[{"$f":"'[1]1季度'!A11","v":"下丽"},{"$f":"[1]全年!AH11","v":4.53},{"$f":"[1]全年!AI11","v":3.94},{"$f":"[1]全年!AJ11","v":15.45},{"$f":"[1]全年!AK11","v":12.17},{"$f":"[1]全年!AL11","v":12.61},{"$f":"[1]全年!AM11","v":17.03},{"$f":"[1]全年!AN11","v":25.06},{"$f":"[1]全年!AO11","v":8.73},{"$f":"[1]全年!AP11","v":33.98},{"$f":"[1]全年!AQ11","v":48.85},{"$f":"[1]全年!AR11","v":0},{"$f":"[1]全年!AS11","v":0},{"$f":"[1]全年!AT11","v":10.33},{"$f":"[1]全年!AU11","v":17.39},{"$f":"[1]全年!AV11","v":23.05},{"$f":"[1]全年!AW11","v":36.57}]
[{"$f":"'[1]1季度'!A12","v":"塘浪"},{"$f":"[1]全年!AH12","v":22.66},{"$f":"[1]全年!AI12","v":25.63},{"$f":"[1]全年!AJ12","v":106.47},{"$f":"[1]全年!AK12","v":122.33},{"$f":"[1]全年!AL12","v":34.68},{"$f":"[1]全年!AM12","v":47.67},{"$f":"[1]全年!AN12","v":50.25},{"$f":"[1]全年!AO12","v":33.64},{"$f":"[1]全年!AP12","v":127.87},{"$f":"[1]全年!AQ12","v":114.12},{"$f":"[1]全年!AR12","v":77.75},{"$f":"[1]全年!AS12","v":119.07},{"$f":"[1]全年!AT12","v":31.89},{"$f":"[1]全年!AU12","v":39.75},{"$f":"[1]全年!AV12","v":35.24},{"$f":"[1]全年!AW12","v":91.3}]
[{"$f":"'[1]1季度'!A13","v":"西村"},{"$f":"[1]全年!AH13","v":4.53},{"$f":"[1]全年!AI13","v":2.96},{"$f":"[1]全年!AJ13","v":33.35},{"$f":"[1]全年!AK13","v":35.34},{"$f":"[1]全年!AL13","v":12.61},{"$f":"[1]全年!AM13","v":17.03},{"$f":"[1]全年!AN13","v":25.06},{"$f":"[1]全年!AO13","v":8.49},{"$f":"[1]全年!AP13","v":22.26},{"$f":"[1]全年!AQ13","v":32.42},{"$f":"[1]全年!AR13","v":9.72},{"$f":"[1]全年!AS13","v":15.41},{"$f":"[1]全年!AT13","v":0},{"$f":"[1]全年!AU13","v":0},{"$f":"[1]全年!AV13","v":7.68},{"$f":"[1]全年!AW13","v":20.92}]
[{"$f":"'[1]1季度'!A14","v":"健丰"},{"$f":"[1]全年!AH14","v":18.13},{"$f":"[1]全年!AI14","v":23.66},{"$f":"[1]全年!AJ14","v":15.98},{"$f":"[1]全年!AK14","v":13.38},{"$f":"[1]全年!AL14","v":14.19},{"$f":"[1]全年!AM14","v":18.73},{"$f":"[1]全年!AN14","v":22.23},{"$f":"[1]全年!AO14","v":8.01},{"$f":"[1]全年!AP14","v":21.21},{"$f":"[1]全年!AQ14","v":31.61},{"$f":"[1]全年!AR14","v":9.72},{"$f":"[1]全年!AS14","v":15.02},{"$f":"[1]全年!AT14","v":0},{"$f":"[1]全年!AU14","v":0},{"$f":"[1]全年!AV14","v":7.68},{"$f":"[1]全年!AW14","v":20.92}]
[{"$f":"'[1]1季度'!A15","v":"东方"},{"$f":"[1]全年!AH15","v":11.33},{"$f":"[1]全年!AI15","v":13.8},{"$f":"[1]全年!AJ15","v":52.79},{"$f":"[1]全年!AK15","v":64.58},{"$f":"[1]全年!AL15","v":31.53},{"$f":"[1]全年!AM15","v":42.56},{"$f":"[1]全年!AN15","v":31.32},{"$f":"[1]全年!AO15","v":13.22},{"$f":"[1]全年!AP15","v":29.68},{"$f":"[1]全年!AQ15","v":38.92},{"$f":"[1]全年!AR15","v":14.58},{"$f":"[1]全年!AS15","v":19.5},{"$f":"[1]全年!AT15","v":0},{"$f":"[1]全年!AU15","v":0},{"$f":"[1]全年!AV15","v":7.68},{"$f":"[1]全年!AW15","v":20.92}]
[{"$f":"'[1]1季度'!A16","v":"联光"},{"$f":"[1]全年!AH16","v":18.13},{"$f":"[1]全年!AI16","v":17.75},{"$f":"[1]全年!AJ16","v":41.82},{"$f":"[1]全年!AK16","v":49.94},{"$f":"[1]全年!AL16","v":28.37},{"$f":"[1]全年!AM16","v":39.15},{"$f":"[1]全年!AN16","v":25.65},{"$f":"[1]全年!AO16","v":9.14},{"$f":"[1]全年!AP16","v":41.4},{"$f":"[1]全年!AQ16","v":49.95},{"$f":"[1]全年!AR16","v":24.3},{"$f":"[1]全年!AS16","v":31.7},{"$f":"[1]全年!AT16","v":0},{"$f":"[1]全年!AU16","v":0},{"$f":"[1]全年!AV16","v":7.68},{"$f":"[1]全年!AW16","v":20.92}]
[{"$f":"'[1]1季度'!A17","v":"红岭"},{"$f":"[1]全年!AH17","v":11.33},{"$f":"[1]全年!AI17","v":13.8},{"$f":"[1]全年!AJ17","v":94.32},{"$f":"[1]全年!AK17","v":84.08},{"$f":"[1]全年!AL17","v":18.92},{"$f":"[1]全年!AM17","v":25.53},{"$f":"[1]全年!AN17","v":26.84},{"$f":"[1]全年!AO17","v":9.56},{"$f":"[1]全年!AP17","v":35.03},{"$f":"[1]全年!AQ17","v":47.01},{"$f":"[1]全年!AR17","v":14.58},{"$f":"[1]全年!AS17","v":21.74},{"$f":"[1]全年!AT17","v":0},{"$f":"[1]全年!AU17","v":0},{"$f":"[1]全年!AV17","v":15.35},{"$f":"[1]全年!AW17","v":38.98}]
[{"$f":"'[1]1季度'!A18","v":"台洞"},{"$f":"[1]全年!AH18","v":18.13},{"$f":"[1]全年!AI18","v":17.75},{"$f":"[1]全年!AJ18","v":76.86},{"$f":"[1]全年!AK18","v":98.93},{"$f":"[1]全年!AL18","v":46.46},{"$f":"[1]全年!AM18","v":68.71},{"$f":"[1]全年!AN18","v":25.65},{"$f":"[1]全年!AO18","v":9.14},{"$f":"[1]全年!AP18","v":50.2},{"$f":"[1]全年!AQ18","v":75.46},{"$f":"[1]全年!AR18","v":29.15},{"$f":"[1]全年!AS18","v":37.82},{"$f":"[1]全年!AT18","v":0},{"$f":"[1]全年!AU18","v":0},{"$f":"[1]全年!AV18","v":17.56},{"$f":"[1]全年!AW18","v":46.58}]
[{"$f":"'[1]1季度'!A19","v":"锦星"},{"$f":"[1]全年!AH19","v":13.6},{"$f":"[1]全年!AI19","v":13.8},{"$f":"[1]全年!AJ19","v":59.98},{"$f":"[1]全年!AK19","v":79.33},{"$f":"[1]全年!AL19","v":12.61},{"$f":"[1]全年!AM19","v":17.03},{"$f":"[1]全年!AN19","v":18.79},{"$f":"[1]全年!AO19","v":6.4},{"$f":"[1]全年!AP19","v":50.59},{"$f":"[1]全年!AQ19","v":75.91},{"$f":"[1]全年!AR19","v":19.43},{"$f":"[1]全年!AS19","v":28.25},{"$f":"[1]全年!AT19","v":15.5},{"$f":"[1]全年!AU19","v":27.36},{"$f":"[1]全年!AV19","v":15.35},{"$f":"[1]全年!AW19","v":38.98}]
[{"$f":"'[1]1季度'!A20","v":"芙冈"},{"$f":"[1]全年!AH20","v":18.13},{"$f":"[1]全年!AI20","v":19.72},{"$f":"[1]全年!AJ20","v":94.62},{"$f":"[1]全年!AK20","v":112.69},{"$f":"[1]全年!AL20","v":23.65},{"$f":"[1]全年!AM20","v":30.65},{"$f":"[1]全年!AN20","v":34.89},{"$f":"[1]全年!AO20","v":13.26},{"$f":"[1]全年!AP20","v":14.84},{"$f":"[1]全年!AQ20","v":32.69},{"$f":"[1]全年!AR20","v":0},{"$f":"[1]全年!AS20","v":6.94},{"$f":"[1]全年!AT20","v":0},{"$f":"[1]全年!AU20","v":0},{"$f":"[1]全年!AV20","v":15.35},{"$f":"[1]全年!AW20","v":38.98}]
[{"$f":"'[1]1季度'!A21","v":"清湖塘"},{"$f":"[1]全年!AH21","v":22.66},{"$f":"[1]全年!AI21","v":23.66},{"$f":"[1]全年!AJ21","v":91.77},{"$f":"[1]全年!AK21","v":108.63},{"$f":"[1]全年!AL21","v":18.92},{"$f":"[1]全年!AM21","v":25.53},{"$f":"[1]全年!AN21","v":37.13},{"$f":"[1]全年!AO21","v":13.81},{"$f":"[1]全年!AP21","v":42.44},{"$f":"[1]全年!AQ21","v":56.01},{"$f":"[1]全年!AR21","v":19.43},{"$f":"[1]全年!AS21","v":28.25},{"$f":"[1]全年!AT21","v":0},{"$f":"[1]全年!AU21","v":0},{"$f":"[1]全年!AV21","v":15.35},{"$f":"[1]全年!AW21","v":38.98}]
[{"$f":"'[1]1季度'!A22","v":"蓢畔"},{"$f":"[1]全年!AH22","v":33.99},{"$f":"[1]全年!AI22","v":31.55},{"$f":"[1]全年!AJ22","v":93.6},{"$f":"[1]全年!AK22","v":124.02},{"$f":"[1]全年!AL22","v":34.68},{"$f":"[1]全年!AM22","v":47.67},{"$f":"[1]全年!AN22","v":43.4},{"$f":"[1]全年!AO22","v":16.44},{"$f":"[1]全年!AP22","v":48.88},{"$f":"[1]全年!AQ22","v":59.8},{"$f":"[1]全年!AR22","v":26.9},{"$f":"[1]全年!AS22","v":39.43},{"$f":"[1]全年!AT22","v":0},{"$f":"[1]全年!AU22","v":0},{"$f":"[1]全年!AV22","v":7.68},{"$f":"[1]全年!AW22","v":19.31}]
["说明：蔬菜、瓜果面积是指季末实有面积，蔬菜、瓜果产量为本季度单季合计数，不填累计数。"]
["单位负责人：",null,{"$f":"C25","v":"胡伏龙"},{"$nulls":3},"填表人：",{"$f":"H25","v":"张静文"},{"$nulls":3},"填报日期：",null,"2018-12-01"]
[]
["蔬菜、瓜果生产季节台账（四）"]
[]
[{"$f":"A3","v":"综合机关名称：开平市沙塘镇"},{"$nulls":5},2018,"年",{"$nulls":6},"单位：","亩、吨"]
["单位\n名称","（八）、葱蒜类",null,"其                           中",{"$nulls":3},"（九）、水生菜类",null,"其   中",null,"（十）、其他蔬菜",null,"（十一）、食用菌",null,"1、干品"]
[{"$nulls":3},"大  葱",null,"蒜  头",{"$nulls":3},"莲  藕"]
[null,"面积","产量","面积","产量","面积","产量","面积","产量","面积","产量","面积","产量","面积","产量","面积","产量"]
["代码",49,50,51,52,53,54,55,56,57,58,59,60,61,62,63,64]
[{"$f":"'[1]1季度'!A7","v":"合计"},{"$f":"[1]全年!AX7","v":350.16},{"$f":"[1]全年!AY7","v":302.76},{"$f":"[1]全年!AZ7","v":0},{"$f":"[1]全年!BA7","v":0},{"$f":"[1]全年!BB7","v":119.95},{"$f":"[1]全年!BC7","v":75.48},{"$f":"[1]全年!BD7","v":183.65},{"$f":"[1]全年!BE7","v":215.77},{"$f":"[1]全年!BF7","v":0},{"$f":"[1]全年!BG7","v":0},{"$f":"[1]全年!BH7","v":1499.97},{"$f":"[1]全年!BI7","v":2165.97},{"$f":"[1]全年!BJ7","v":0},{"$f":"[1]全年!BK7","v":0},{"$f":"[1]全年!BL7","v":0},{"$f":"[1]全年!BM7","v":0}]
[{"$f":"'[1]1季度'!A8","v":"丽新"},{"$f":"[1]全年!AX8","v":27.18},{"$f":"[1]全年!AY8","v":25.49},{"$f":"[1]全年!AZ8","v":0},{"$f":"[1]全年!BA8","v":0},{"$f":"[1]全年!BB8","v":10.25},{"$f":"[1]全年!BC8","v":7.14},{"$f":"[1]全年!BD8","v":7.71},{"$f":"[1]全年!BE8","v":5.89},{"$f":"[1]全年!BF8","v":0},{"$f":"[1]全年!BG8","v":0},{"$f":"[1]全年!BH8","v":83.33},{"$f":"[1]全年!BI8","v":120.33},{"$f":"[1]全年!BJ8","v":0},{"$f":"[1]全年!BK8","v":0},{"$f":"[1]全年!BL8","v":0},{"$f":"[1]全年!BM8","v":0}]
[{"$f":"'[1]1季度'!A9","v":"泰山"},{"$f":"[1]全年!AX9","v":21.16},{"$f":"[1]全年!AY9","v":18.19},{"$f":"[1]全年!AZ9","v":0},{"$f":"[1]全年!BA9","v":0},{"$f":"[1]全年!BB9","v":8.2},{"$f":"[1]全年!BC9","v":5.1},{"$f":"[1]全年!BD9","v":7.71},{"$f":"[1]全年!BE9","v":5.89},{"$f":"[1]全年!BF9","v":0},{"$f":"[1]全年!BG9","v":0},{"$f":"[1]全年!BH9","v":83.33},{"$f":"[1]全年!BI9","v":120.33},{"$f":"[1]全年!BJ9","v":0},{"$f":"[1]全年!BK9","v":0},{"$f":"[1]全年!BL9","v":0},{"$f":"[1]全年!BM9","v":0}]
[{"$f":"'[1]1季度'!A10","v":"丽群"},{"$f":"[1]全年!AX10","v":21.16},{"$f":"[1]全年!AY10","v":16.13},{"$f":"[1]全年!AZ10","v":0},{"$f":"[1]全年!BA10","v":0},{"$f":"[1]全年!BB10","v":8.2},{"$f":"[1]全年!BC10","v":5.1},{"$f":"[1]全年!BD10","v":7.71},{"$f":"[1]全年!BE10","v":11.79},{"$f":"[1]全年!BF10","v":0},{"$f":"[1]全年!BG10","v":0},{"$f":"[1]全年!BH10","v":83.33},{"$f":"[1]全年!BI10","v":120.33},{"$f":"[1]全年!BJ10","v":0},{"$f":"[1]全年!BK10","v":0},{"$f":"[1]全年!BL10","v":0},{"$f":"[1]全年!BM10","v":0}]
[{"$f":"'[1]1季度'!A11","v":"下丽"},{"$f":"[1]全年!AX11","v":16.46},{"$f":"[1]全年!AY11","v":15.32},{"$f":"[1]全年!AZ11","v":0},{"$f":"[1]全年!BA11","v":0},{"$f":"[1]全年!BB11","v":5.13},{"$f":"[1]全年!BC11","v":4.08},{"$f":"[1]全年!BD11","v":7.71},{"$f":"[1]全年!BE11","v":5.89},{"$f":"[1]全年!BF11","v":0},{"$f":"[1]全年!BG11","v":0},{"$f":"[1]全年!BH11","v":83.33},{"$f":"[1]全年!BI11","v":120.33},{"$f":"[1]全年!BJ11","v":0},{"$f":"[1]全年!BK11","v":0},{"$f":"[1]全年!BL11","v":0},{"$f":"[1]全年!BM11","v":0}]
[{"$f":"'[1]1季度'!A12","v":"塘浪"},{"$f":"[1]全年!AX12","v":36.06},{"$f":"[1]全年!AY12","v":33.91},{"$f":"[1]全年!AZ12","v":0},{"$f":"[1]全年!BA12","v":0},{"$f":"[1]全年!BB12","v":12.31},{"$f":"[1]全年!BC12","v":7.65},{"$f":"[1]全年!BD12","v":22.45},{"$f":"[1]全年!BE12","v":19.19},{"$f":"[1]全年!BF12","v":0},{"$f":"[1]全年!BG12","v":0},{"$f":"[1]全年!BH12","v":166.67},{"$f":"[1]全年!BI12","v":240.67},{"$f":"[1]全年!BJ12","v":0},{"$f":"[1]全年!BK12","v":0},{"$f":"[1]全年!BL12","v":0},{"$f":"[1]全年!BM12","v":0}]
[{"$f":"'[1]1季度'!A13","v":"西村"},{"$f":"[1]全年!AX13","v":18.03},{"$f":"[1]全年!AY13","v":14.87},{"$f":"[1]全年!AZ13","v":0},{"$f":"[1]全年!BA13","v":0},{"$f":"[1]全年!BB13","v":6.15},{"$f":"[1]全年!BC13","v":4.08},{"$f":"[1]全年!BD13","v":7.71},{"$f":"[1]全年!BE13","v":11.79},{"$f":"[1]全年!BF13","v":0},{"$f":"[1]全年!BG13","v":0},{"$f":"[1]全年!BH13","v":83.33},{"$f":"[1]全年!BI13","v":120.33},{"$f":"[1]全年!BJ13","v":0},{"$f":"[1]全年!BK13","v":0},{"$f":"[1]全年!BL13","v":0},{"$f":"[1]全年!BM13","v":0}]
[{"$f":"'[1]1季度'!A14","v":"健丰"},{"$f":"[1]全年!AX14","v":21.16},{"$f":"[1]全年!AY14","v":15.35},{"$f":"[1]全年!AZ14","v":0},{"$f":"[1]全年!BA14","v":0},{"$f":"[1]全年!BB14","v":8.2},{"$f":"[1]全年!BC14","v":4.9},{"$f":"[1]全年!BD14","v":24.46},{"$f":"[1]全年!BE14","v":31.51},{"$f":"[1]全年!BF14","v":0},{"$f":"[1]全年!BG14","v":0},{"$f":"[1]全年!BH14","v":83.33},{"$f":"[1]全年!BI14","v":120.33},{"$f":"[1]全年!BJ14","v":0},{"$f":"[1]全年!BK14","v":0},{"$f":"[1]全年!BL14","v":0},{"$f":"[1]全年!BM14","v":0}]
[{"$f":"'[1]1季度'!A15","v":"东方"},{"$f":"[1]全年!AX15","v":18.03},{"$f":"[1]全年!AY15","v":14.87},{"$f":"[1]全年!AZ15","v":0},{"$f":"[1]全年!BA15","v":0},{"$f":"[1]全年!BB15","v":6.15},{"$f":"[1]全年!BC15","v":4.08},{"$f":"[1]全年!BD15","v":7.71},{"$f":"[1]全年!BE15","v":11.79},{"$f":"[1]全年!BF15","v":0},{"$f":"[1]全年!BG15","v":0},{"$f":"[1]全年!BH15","v":166.67},{"$f":"[1]全年!BI15","v":240.67},{"$f":"[1]全年!BJ15","v":0},{"$f":"[1]全年!BK15","v":0},{"$f":"[1]全年!BL15","v":0},{"$f":"[1]全年!BM15","v":0}]
[{"$f":"'[1]1季度'!A16","v":"联光"},{"$f":"[1]全年!AX16","v":18.03},{"$f":"[1]全年!AY16","v":11.79},{"$f":"[1]全年!AZ16","v":0},{"$f":"[1]全年!BA16","v":0},{"$f":"[1]全年!BB16","v":6.15},{"$f":"[1]全年!BC16","v":3.06},{"$f":"[1]全年!BD16","v":7.71},{"$f":"[1]全年!BE16","v":11.79},{"$f":"[1]全年!BF16","v":0},{"$f":"[1]全年!BG16","v":0},{"$f":"[1]全年!BH16","v":83.33},{"$f":"[1]全年!BI16","v":120.33},{"$f":"[1]全年!BJ16","v":0},{"$f":"[1]全年!BK16","v":0},{"$f":"[1]全年!BL16","v":0},{"$f":"[1]全年!BM16","v":0}]
[{"$f":"'[1]1季度'!A17","v":"红岭"},{"$f":"[1]全年!AX17","v":18.03},{"$f":"[1]全年!AY17","v":14.87},{"$f":"[1]全年!AZ17","v":0},{"$f":"[1]全年!BA17","v":0},{"$f":"[1]全年!BB17","v":6.15},{"$f":"[1]全年!BC17","v":4.08},{"$f":"[1]全年!BD17","v":7.71},{"$f":"[1]全年!BE17","v":11.79},{"$f":"[1]全年!BF17","v":0},{"$f":"[1]全年!BG17","v":0},{"$f":"[1]全年!BH17","v":166.67},{"$f":"[1]全年!BI17","v":240.67},{"$f":"[1]全年!BJ17","v":0},{"$f":"[1]全年!BK17","v":0},{"$f":"[1]全年!BL17","v":0},{"$f":"[1]全年!BM17","v":0}]
[{"$f":"'[1]1季度'!A18","v":"台洞"},{"$f":"[1]全年!AX18","v":28.49},{"$f":"[1]全年!AY18","v":20.25},{"$f":"[1]全年!AZ18","v":0},{"$f":"[1]全年!BA18","v":0},{"$f":"[1]全年!BB18","v":9.23},{"$f":"[1]全年!BC18","v":5.1},{"$f":"[1]全年!BD18","v":27.47},{"$f":"[1]全年!BE18","v":30.42},{"$f":"[1]全年!BF18","v":0},{"$f":"[1]全年!BG18","v":0},{"$f":"[1]全年!BH18","v":83.33},{"$f":"[1]全年!BI18","v":120.33},{"$f":"[1]全年!BJ18","v":0},{"$f":"[1]全年!BK18","v":0},{"$f":"[1]全年!BL18","v":0},{"$f":"[1]全年!BM18","v":0}]
[{"$f":"'[1]1季度'!A19","v":"锦星"},{"$f":"[1]全年!AX19","v":24.04},{"$f":"[1]全年!AY19","v":21.96},{"$f":"[1]全年!AZ19","v":0},{"$f":"[1]全年!BA19","v":0},{"$f":"[1]全年!BB19","v":8.2},{"$f":"[1]全年!BC19","v":5.1},{"$f":"[1]全年!BD19","v":7.71},{"$f":"[1]全年!BE19","v":11.79},{"$f":"[1]全年!BF19","v":0},{"$f":"[1]全年!BG19","v":0},{"$f":"[1]全年!BH19","v":83.33},{"$f":"[1]全年!BI19","v":120.33},{"$f":"[1]全年!BJ19","v":0},{"$f":"[1]全年!BK19","v":0},{"$f":"[1]全年!BL19","v":0},{"$f":"[1]全年!BM19","v":0}]
[{"$f":"'[1]1季度'!A20","v":"芙冈"},{"$f":"[1]全年!AX20","v":28.23},{"$f":"[1]全年!AY20","v":26.93},{"$f":"[1]全年!AZ20","v":0},{"$f":"[1]全年!BA20","v":0},{"$f":"[1]全年!BB20","v":7.18},{"$f":"[1]全年!BC20","v":4.69},{"$f":"[1]全年!BD20","v":7.71},{"$f":"[1]全年!BE20","v":5.89},{"$f":"[1]全年!BF20","v":0},{"$f":"[1]全年!BG20","v":0},{"$f":"[1]全年!BH20","v":83.33},{"$f":"[1]全年!BI20","v":120.33},{"$f":"[1]全年!BJ20","v":0},{"$f":"[1]全年!BK20","v":0},{"$f":"[1]全年!BL20","v":0},{"$f":"[1]全年!BM20","v":0}]
[{"$f":"'[1]1季度'!A21","v":"清湖塘"},{"$f":"[1]全年!AX21","v":24.04},{"$f":"[1]全年!AY21","v":22.08},{"$f":"[1]全年!AZ21","v":0},{"$f":"[1]全年!BA21","v":0},{"$f":"[1]全年!BB21","v":8.2},{"$f":"[1]全年!BC21","v":5.1},{"$f":"[1]全年!BD21","v":24.46},{"$f":"[1]全年!BE21","v":28.56},{"$f":"[1]全年!BF21","v":0},{"$f":"[1]全年!BG21","v":0},{"$f":"[1]全年!BH21","v":83.33},{"$f":"[1]全年!BI21","v":120.33},{"$f":"[1]全年!BJ21","v":0},{"$f":"[1]全年!BK21","v":0},{"$f":"[1]全年!BL21","v":0},{"$f":"[1]全年!BM21","v":0}]
[{"$f":"'[1]1季度'!A22","v":"蓢畔"},{"$f":"[1]全年!AX22","v":30.06},{"$f":"[1]全年!AY22","v":30.75},{"$f":"[1]全年!AZ22","v":0},{"$f":"[1]全年!BA22","v":0},{"$f":"[1]全年!BB22","v":10.25},{"$f":"[1]全年!BC22","v":6.22},{"$f":"[1]全年!BD22","v":7.71},{"$f":"[1]全年!BE22","v":11.79},{"$f":"[1]全年!BF22","v":0},{"$f":"[1]全年!BG22","v":0},{"$f":"[1]全年!BH22","v":83.33},{"$f":"[1]全年!BI22","v":120.33},{"$f":"[1]全年!BJ22","v":0},{"$f":"[1]全年!BK22","v":0},{"$f":"[1]全年!BL22","v":0},{"$f":"[1]全年!BM22","v":0}]
["说明：蔬菜、瓜果面积是指季末实有面积，蔬菜、瓜果产量为本季度单季合计数，不填累计数。"]
["单位负责人：",null,{"$f":"C25","v":"胡伏龙"},{"$nulls":3},"填表人：",{"$f":"H25","v":"张静文"},{"$nulls":3},"填报日期：",null,"2018-12-01"]
[]
["蔬菜、瓜果生产季节台账（五）"]
[]
[{"$f":"A3","v":"综合机关名称：开平市沙塘镇"},{"$nulls":5},2018,"年",{"$nulls":6},"单位：","亩、吨"]
["单位\n名称","其                          中",{"$nulls":3},"2、鲜品",null,"其    中",null,"二、瓜果类",null,"其                                        中"]
[null,"香     菇",null,"黑木耳",{"$nulls":3},"蘑菇",{"$nulls":3},"西瓜",null,"香瓜",null,"草莓"]
[null,"面积","产量","面积","产量","面积","产量","面积","产量","面积","产量","面积","产量","面积","产量","面积","产量"]
["代码",65,66,67,68,69,70,71,72,73,74,75,76,77,78,79,80]
[{"$f":"'[1]1季度'!A7","v":"合计"},{"$f":"[1]全年!BN7","v":0},{"$f":"[1]全年!BO7","v":0},{"$f":"[1]全年!BP7","v":0},{"$f":"[1]全年!BQ7","v":0},{"$f":"[1]全年!BR7","v":0},{"$f":"[1]全年!BS7","v":0},{"$f":"[1]全年!BT7","v":0},{"$f":"[1]全年!BU7","v":0},{"$f":"[1]全年!BV7","v":0},{"$f":"[1]全年!BW7","v":0},{"$f":"[1]全年!BX7","v":0},{"$f":"[1]全年!BY7","v":0},{"$f":"[1]全年!BZ7","v":0},{"$f":"[1]全年!CA7","v":0},{"$f":"[1]全年!CB7","v":0},{"$f":"[1]全年!CC7","v":0}]
[{"$f":"'[1]1季度'!A8","v":"丽新"},{"$f":"[1]全年!BN8","v":0},{"$f":"[1]全年!BO8","v":0},{"$f":"[1]全年!BP8","v":0},{"$f":"[1]全年!BQ8","v":0},{"$f":"[1]全年!BR8","v":0},{"$f":"[1]全年!BS8","v":0},{"$f":"[1]全年!BT8","v":0},{"$f":"[1]全年!BU8","v":0},{"$f":"[1]全年!BV8","v":0},{"$f":"[1]全年!BW8","v":0},{"$f":"[1]全年!BX8","v":0},{"$f":"[1]全年!BY8","v":0},{"$f":"[1]全年!BZ8","v":0},{"$f":"[1]全年!CA8","v":0},{"$f":"[1]全年!CB8","v":0},{"$f":"[1]全年!CC8","v":0}]
[{"$f":"'[1]1季度'!A9","v":"泰山"},{"$f":"[1]全年!BN9","v":0},{"$f":"[1]全年!BO9","v":0},{"$f":"[1]全年!BP9","v":0},{"$f":"[1]全年!BQ9","v":0},{"$f":"[1]全年!BR9","v":0},{"$f":"[1]全年!BS9","v":0},{"$f":"[1]全年!BT9","v":0},{"$f":"[1]全年!BU9","v":0},{"$f":"[1]全年!BV9","v":0},{"$f":"[1]全年!BW9","v":0},{"$f":"[1]全年!BX9","v":0},{"$f":"[1]全年!BY9","v":0},{"$f":"[1]全年!BZ9","v":0},{"$f":"[1]全年!CA9","v":0},{"$f":"[1]全年!CB9","v":0},{"$f":"[1]全年!CC9","v":0}]
[{"$f":"'[1]1季度'!A10","v":"丽群"},{"$f":"[1]全年!BN10","v":0},{"$f":"[1]全年!BO10","v":0},{"$f":"[1]全年!BP10","v":0},{"$f":"[1]全年!BQ10","v":0},{"$f":"[1]全年!BR10","v":0},{"$f":"[1]全年!BS10","v":0},{"$f":"[1]全年!BT10","v":0},{"$f":"[1]全年!BU10","v":0},{"$f":"[1]全年!BV10","v":0},{"$f":"[1]全年!BW10","v":0},{"$f":"[1]全年!BX10","v":0},{"$f":"[1]全年!BY10","v":0},{"$f":"[1]全年!BZ10","v":0},{"$f":"[1]全年!CA10","v":0},{"$f":"[1]全年!CB10","v":0},{"$f":"[1]全年!CC10","v":0}]
[{"$f":"'[1]1季度'!A11","v":"下丽"},{"$f":"[1]全年!BN11","v":0},{"$f":"[1]全年!BO11","v":0},{"$f":"[1]全年!BP11","v":0},{"$f":"[1]全年!BQ11","v":0},{"$f":"[1]全年!BR11","v":0},{"$f":"[1]全年!BS11","v":0},{"$f":"[1]全年!BT11","v":0},{"$f":"[1]全年!BU11","v":0},{"$f":"[1]全年!BV11","v":0},{"$f":"[1]全年!BW11","v":0},{"$f":"[1]全年!BX11","v":0},{"$f":"[1]全年!BY11","v":0},{"$f":"[1]全年!BZ11","v":0},{"$f":"[1]全年!CA11","v":0},{"$f":"[1]全年!CB11","v":0},{"$f":"[1]全年!CC11","v":0}]
[{"$f":"'[1]1季度'!A12","v":"塘浪"},{"$f":"[1]全年!BN12","v":0},{"$f":"[1]全年!BO12","v":0},{"$f":"[1]全年!BP12","v":0},{"$f":"[1]全年!BQ12","v":0},{"$f":"[1]全年!BR12","v":0},{"$f":"[1]全年!BS12","v":0},{"$f":"[1]全年!BT12","v":0},{"$f":"[1]全年!BU12","v":0},{"$f":"[1]全年!BV12","v":0},{"$f":"[1]全年!BW12","v":0},{"$f":"[1]全年!BX12","v":0},{"$f":"[1]全年!BY12","v":0},{"$f":"[1]全年!BZ12","v":0},{"$f":"[1]全年!CA12","v":0},{"$f":"[1]全年!CB12","v":0},{"$f":"[1]全年!CC12","v":0}]
[{"$f":"'[1]1季度'!A13","v":"西村"},{"$f":"[1]全年!BN13","v":0},{"$f":"[1]全年!BO13","v":0},{"$f":"[1]全年!BP13","v":0},{"$f":"[1]全年!BQ13","v":0},{"$f":"[1]全年!BR13","v":0},{"$f":"[1]全年!BS13","v":0},{"$f":"[1]全年!BT13","v":0},{"$f":"[1]全年!BU13","v":0},{"$f":"[1]全年!BV13","v":0},{"$f":"[1]全年!BW13","v":0},{"$f":"[1]全年!BX13","v":0},{"$f":"[1]全年!BY13","v":0},{"$f":"[1]全年!BZ13","v":0},{"$f":"[1]全年!CA13","v":0},{"$f":"[1]全年!CB13","v":0},{"$f":"[1]全年!CC13","v":0}]
[{"$f":"'[1]1季度'!A14","v":"健丰"},{"$f":"[1]全年!BN14","v":0},{"$f":"[1]全年!BO14","v":0},{"$f":"[1]全年!BP14","v":0},{"$f":"[1]全年!BQ14","v":0},{"$f":"[1]全年!BR14","v":0},{"$f":"[1]全年!BS14","v":0},{"$f":"[1]全年!BT14","v":0},{"$f":"[1]全年!BU14","v":0},{"$f":"[1]全年!BV14","v":0},{"$f":"[1]全年!BW14","v":0},{"$f":"[1]全年!BX14","v":0},{"$f":"[1]全年!BY14","v":0},{"$f":"[1]全年!BZ14","v":0},{"$f":"[1]全年!CA14","v":0},{"$f":"[1]全年!CB14","v":0},{"$f":"[1]全年!CC14","v":0}]
[{"$f":"'[1]1季度'!A15","v":"东方"},{"$f":"[1]全年!BN15","v":0},{"$f":"[1]全年!BO15","v":0},{"$f":"[1]全年!BP15","v":0},{"$f":"[1]全年!BQ15","v":0},{"$f":"[1]全年!BR15","v":0},{"$f":"[1]全年!BS15","v":0},{"$f":"[1]全年!BT15","v":0},{"$f":"[1]全年!BU15","v":0},{"$f":"[1]全年!BV15","v":0},{"$f":"[1]全年!BW15","v":0},{"$f":"[1]全年!BX15","v":0},{"$f":"[1]全年!BY15","v":0},{"$f":"[1]全年!BZ15","v":0},{"$f":"[1]全年!CA15","v":0},{"$f":"[1]全年!CB15","v":0},{"$f":"[1]全年!CC15","v":0}]
[{"$f":"'[1]1季度'!A16","v":"联光"},{"$f":"[1]全年!BN16","v":0},{"$f":"[1]全年!BO16","v":0},{"$f":"[1]全年!BP16","v":0},{"$f":"[1]全年!BQ16","v":0},{"$f":"[1]全年!BR16","v":0},{"$f":"[1]全年!BS16","v":0},{"$f":"[1]全年!BT16","v":0},{"$f":"[1]全年!BU16","v":0},{"$f":"[1]全年!BV16","v":0},{"$f":"[1]全年!BW16","v":0},{"$f":"[1]全年!BX16","v":0},{"$f":"[1]全年!BY16","v":0},{"$f":"[1]全年!BZ16","v":0},{"$f":"[1]全年!CA16","v":0},{"$f":"[1]全年!CB16","v":0},{"$f":"[1]全年!CC16","v":0}]
[{"$f":"'[1]1季度'!A17","v":"红岭"},{"$f":"[1]全年!BN17","v":0},{"$f":"[1]全年!BO17","v":0},{"$f":"[1]全年!BP17","v":0},{"$f":"[1]全年!BQ17","v":0},{"$f":"[1]全年!BR17","v":0},{"$f":"[1]全年!BS17","v":0},{"$f":"[1]全年!BT17","v":0},{"$f":"[1]全年!BU17","v":0},{"$f":"[1]全年!BV17","v":0},{"$f":"[1]全年!BW17","v":0},{"$f":"[1]全年!BX17","v":0},{"$f":"[1]全年!BY17","v":0},{"$f":"[1]全年!BZ17","v":0},{"$f":"[1]全年!CA17","v":0},{"$f":"[1]全年!CB17","v":0},{"$f":"[1]全年!CC17","v":0}]
[{"$f":"'[1]1季度'!A18","v":"台洞"},{"$f":"[1]全年!BN18","v":0},{"$f":"[1]全年!BO18","v":0},{"$f":"[1]全年!BP18","v":0},{"$f":"[1]全年!BQ18","v":0},{"$f":"[1]全年!BR18","v":0},{"$f":"[1]全年!BS18","v":0},{"$f":"[1]全年!BT18","v":0},{"$f":"[1]全年!BU18","v":0},{"$f":"[1]全年!BV18","v":0},{"$f":"[1]全年!BW18","v":0},{"$f":"[1]全年!BX18","v":0},{"$f":"[1]全年!BY18","v":0},{"$f":"[1]全年!BZ18","v":0},{"$f":"[1]全年!CA18","v":0},{"$f":"[1]全年!CB18","v":0},{"$f":"[1]全年!CC18","v":0}]
[{"$f":"'[1]1季度'!A19","v":"锦星"},{"$f":"[1]全年!BN19","v":0},{"$f":"[1]全年!BO19","v":0},{"$f":"[1]全年!BP19","v":0},{"$f":"[1]全年!BQ19","v":0},{"$f":"[1]全年!BR19","v":0},{"$f":"[1]全年!BS19","v":0},{"$f":"[1]全年!BT19","v":0},{"$f":"[1]全年!BU19","v":0},{"$f":"[1]全年!BV19","v":0},{"$f":"[1]全年!BW19","v":0},{"$f":"[1]全年!BX19","v":0},{"$f":"[1]全年!BY19","v":0},{"$f":"[1]全年!BZ19","v":0},{"$f":"[1]全年!CA19","v":0},{"$f":"[1]全年!CB19","v":0},{"$f":"[1]全年!CC19","v":0}]
[{"$f":"'[1]1季度'!A20","v":"芙冈"},{"$f":"[1]全年!BN20","v":0},{"$f":"[1]全年!BO20","v":0},{"$f":"[1]全年!BP20","v":0},{"$f":"[1]全年!BQ20","v":0},{"$f":"[1]全年!BR20","v":0},{"$f":"[1]全年!BS20","v":0},{"$f":"[1]全年!BT20","v":0},{"$f":"[1]全年!BU20","v":0},{"$f":"[1]全年!BV20","v":0},{"$f":"[1]全年!BW20","v":0},{"$f":"[1]全年!BX20","v":0},{"$f":"[1]全年!BY20","v":0},{"$f":"[1]全年!BZ20","v":0},{"$f":"[1]全年!CA20","v":0},{"$f":"[1]全年!CB20","v":0},{"$f":"[1]全年!CC20","v":0}]
[{"$f":"'[1]1季度'!A21","v":"清湖塘"},{"$f":"[1]全年!BN21","v":0},{"$f":"[1]全年!BO21","v":0},{"$f":"[1]全年!BP21","v":0},{"$f":"[1]全年!BQ21","v":0},{"$f":"[1]全年!BR21","v":0},{"$f":"[1]全年!BS21","v":0},{"$f":"[1]全年!BT21","v":0},{"$f":"[1]全年!BU21","v":0},{"$f":"[1]全年!BV21","v":0},{"$f":"[1]全年!BW21","v":0},{"$f":"[1]全年!BX21","v":0},{"$f":"[1]全年!BY21","v":0},{"$f":"[1]全年!BZ21","v":0},{"$f":"[1]全年!CA21","v":0},{"$f":"[1]全年!CB21","v":0},{"$f":"[1]全年!CC21","v":0}]
[{"$f":"'[1]1季度'!A22","v":"蓢畔"},{"$f":"[1]全年!BN22","v":0},{"$f":"[1]全年!BO22","v":0},{"$f":"[1]全年!BP22","v":0},{"$f":"[1]全年!BQ22","v":0},{"$f":"[1]全年!BR22","v":0},{"$f":"[1]全年!BS22","v":0},{"$f":"[1]全年!BT22","v":0},{"$f":"[1]全年!BU22","v":0},{"$f":"[1]全年!BV22","v":0},{"$f":"[1]全年!BW22","v":0},{"$f":"[1]全年!BX22","v":0},{"$f":"[1]全年!BY22","v":0},{"$f":"[1]全年!BZ22","v":0},{"$f":"[1]全年!CA22","v":0},{"$f":"[1]全年!CB22","v":0},{"$f":"[1]全年!CC22","v":0}]
["说明：蔬菜、瓜果面积是指季末实有面积，蔬菜、瓜果产量为本季度单季合计数，不填累计数。"]
["单位负责人：",null,{"$f":"C25","v":"胡伏龙"},{"$nulls":3},"填表人：",{"$f":"H25","v":"张静文"},{"$nulls":3},"填报日期：",null,"2018-12-01"]
[]
["蔬菜、瓜果生产季节台账（六）"]
[]
[{"$f":"A3","v":"综合机关名称：开平市沙塘镇"},{"$nulls":5},2018,"年",{"$nulls":6},"单位：","亩、吨"]
["单位\n名称","其     中"]
[null,"其他瓜果"]
[null,"面积","产量"]
["代码",81,82]
[{"$f":"'[1]1季度'!A7","v":"合计"},{"$f":"[1]全年!CD8","v":0},{"$f":"[1]全年!CE7","v":0}]
[{"$f":"'[1]1季度'!A8","v":"丽新"},{"$f":"[1]全年!CD9","v":0},{"$f":"[1]全年!CE8","v":0}]
[{"$f":"'[1]1季度'!A9","v":"泰山"},{"$f":"[1]全年!CD10","v":0},{"$f":"[1]全年!CE9","v":0}]
[{"$f":"'[1]1季度'!A10","v":"丽群"},{"$f":"[1]全年!CD11","v":0},{"$f":"[1]全年!CE10","v":0}]
[{"$f":"'[1]1季度'!A11","v":"下丽"},{"$f":"[1]全年!CD12","v":0},{"$f":"[1]全年!CE11","v":0}]
[{"$f":"'[1]1季度'!A12","v":"塘浪"},{"$f":"[1]全年!CD13","v":0},{"$f":"[1]全年!CE12","v":0}]
[{"$f":"'[1]1季度'!A13","v":"西村"},{"$f":"[1]全年!CD14","v":0},{"$f":"[1]全年!CE13","v":0}]
[{"$f":"'[1]1季度'!A14","v":"健丰"},{"$f":"[1]全年!CD15","v":0},{"$f":"[1]全年!CE14","v":0}]
[{"$f":"'[1]1季度'!A15","v":"东方"},{"$f":"[1]全年!CD16","v":0},{"$f":"[1]全年!CE15","v":0}]
[{"$f":"'[1]1季度'!A16","v":"联光"},{"$f":"[1]全年!CD17","v":0},{"$f":"[1]全年!CE16","v":0}]
[{"$f":"'[1]1季度'!A17","v":"红岭"},{"$f":"[1]全年!CD18","v":0},{"$f":"[1]全年!CE17","v":0}]
[{"$f":"'[1]1季度'!A18","v":"台洞"},{"$f":"[1]全年!CD19","v":0},{"$f":"[1]全年!CE18","v":0}]
[{"$f":"'[1]1季度'!A19","v":"锦星"},{"$f":"[1]全年!CD20","v":0},{"$f":"[1]全年!CE19","v":0}]
[{"$f":"'[1]1季度'!A20","v":"芙冈"},{"$f":"[1]全年!CD21","v":0},{"$f":"[1]全年!CE20","v":0}]
[{"$f":"'[1]1季度'!A21","v":"清湖塘"},{"$f":"[1]全年!CD22","v":0},{"$f":"[1]全年!CE21","v":0}]
[{"$f":"'[1]1季度'!A22","v":"蓢畔"},{"$f":"[1]全年!CD23","v":0},{"$f":"[1]全年!CE22","v":0}]
["说明：蔬菜、瓜果面积是指季末实有面积，蔬菜、瓜果产量为本季度单季合计数，不填累计数。"]
["单位负责人：",null,{"$f":"C25","v":"胡伏龙"},{"$nulls":3},"填表人：",{"$f":"H25","v":"张静文"},{"$nulls":3},"填报日期：",null,"2018-12-01"]